BEGIN:VCALENDAR
PRODID:NingEventWidget-v1
VERSION:2.0
METHOD:PUBLISH
BEGIN:VTIMEZONE
TZID:Europe/Paris
X-LIC-LOCATION:Europe/Paris
BEGIN:DAYLIGHT
TZOFFSETFROM:+0100
TZOFFSETTO:+0200
TZNAME:CEST
DTSTART:19700329T020000
RRULE:FREQ=YEARLY;BYMONTH=3;BYDAY=-1SU
END:DAYLIGHT
BEGIN:STANDARD
TZOFFSETFROM:+0200
TZOFFSETTO:+0100
TZNAME:CET
DTSTART:19701025T030000
RRULE:FREQ=YEARLY;BYMONTH=10;BYDAY=-1SU
END:STANDARD
END:VTIMEZONE
BEGIN:VEVENT
UID:6339722:Event:137557
DTSTAMP:20260423T164502Z
SUMMARY:SCRIGNAC : Randos Vtt, Cyclo, pédestre, équestre le 4 novemb
 re 2012
DESCRIPTION:\n\nPour en savoir plus, rendez-vous sur http://www.breizh
 book.com/events/scrignac-randos-vtt-cyclo-p-destre-questre-le-4-novemb
 re-2012
DTSTART;TZID=Europe/Paris:20121104T080000
DTEND;TZID=Europe/Paris:20121104T190000
CATEGORIES:telethon, 2012
LOCATION:Salle polyvalente
WEBSITE:
URL:
CONTACT:0623241711
ORGANIZER:Municipalité de Scrignac
ATTACH;FMTTYPE="image/jpeg":
ATTENDEE;ROLE=REQ-PARTICIPANT;PARTSTAT=ACCEPTED;RSVP=TRUE;CN="Bretagne
  Gîte":http://www.breizhbook.com/profile/BretagneGite
END:VEVENT
END:VCALENDAR
