BEGIN:VCALENDAR
PRODID:NingEventWidget-v1
VERSION:2.0
METHOD:PUBLISH
BEGIN:VTIMEZONE
TZID:Europe/Paris
X-LIC-LOCATION:Europe/Paris
BEGIN:DAYLIGHT
TZOFFSETFROM:+0100
TZOFFSETTO:+0200
TZNAME:CEST
DTSTART:19700329T020000
RRULE:FREQ=YEARLY;BYMONTH=3;BYDAY=-1SU
END:DAYLIGHT
BEGIN:STANDARD
TZOFFSETFROM:+0200
TZOFFSETTO:+0100
TZNAME:CET
DTSTART:19701025T030000
RRULE:FREQ=YEARLY;BYMONTH=10;BYDAY=-1SU
END:STANDARD
END:VTIMEZONE
BEGIN:VEVENT
UID:6339722:Event:128119
DTSTAMP:20260423T162800Z
SUMMARY:Scarface is just plain beautiful. It has obviously
DESCRIPTION:Graphically, Scarface is just plain beautiful. It has obvi
 ously painstakingly paid attention to every tiny detail that would hel
 p bring this game together and recreate an entirely new world, althoug
 h it was based on the film and some other specific locations taken fro
 m the movie. Some of these locations include the mansion itself, the O
 akley Drive-In, the Babylon Club, the Sun Ray oakley sunglass Motel, a
 nd even Angel Dust Donuts.\nApparelShowroom.com has also sunglasses oa
 kley been oakley sunglasses sale validated to have a secure SSL certif
 icate which provides industry standard data encryption of information 
 transferred from their customer's computer to the website. Other than 
 Volusion SSL certified, ApparelShowroom.com have also been awarded the
  reliability program by BBB or Better Business Bureau for its reliable
  and dependable means for customers to purchase from ApparelShowroom.c
 om.Faviana Couture purple prom dress collection will leave you in tota
 l amazement. Want a colorful ball gown for your next formal event?chea
 p oakley sunglasses outlet Just have a look at this remarkable Halter
  Tulle Ball Gowns by Faviana Couture. You just have to try this beauti
 ful dress by Faviana Couture. This wonderful dress features a print bo
 dice and full tulle skirt. Fit for a princess, just add a great shoe a
 nd some funky jewelry and you are good to go! Pick oakley shipping the
  Wildberry Evening Dresses by Faviana Couture and you are sure a happy
  dame. This gorgeous purple gown by Faviana Couture is floor length. T
 he sweetheart neckline is accented with a brooch in the center. Gather
 ed around the bust, this dress hugs your curves. The sexy cut out back
  is also accented with a brooch and slight beading and absolutely gorg
 eous.\n\nPour en savoir plus, rendez-vous sur http://www.breizhbook.co
 m/events/scarface-is-just-plain-beautiful-it-has-obviously
DTSTART;TZID=Europe/Paris:20120716T180000
DTEND;TZID=Europe/Paris:20120716T190000
CATEGORIES:birthday, party
LOCATION:阿根廷
WEBSITE:
URL:
CONTACT:
ORGANIZER;CN="willis surrey charles":http://www.breizhbook.com/profile
 /willissurreycharles
ATTACH;FMTTYPE="image/jpeg":
ATTENDEE;ROLE=REQ-PARTICIPANT;PARTSTAT=ACCEPTED;RSVP=TRUE;CN="willis s
 urrey charles":http://www.breizhbook.com/profile/willissurreycharles
END:VEVENT
END:VCALENDAR
