BEGIN:VCALENDAR
PRODID:NingEventWidget-v1
VERSION:2.0
METHOD:PUBLISH
BEGIN:VTIMEZONE
TZID:Europe/Paris
X-LIC-LOCATION:Europe/Paris
BEGIN:DAYLIGHT
TZOFFSETFROM:+0100
TZOFFSETTO:+0200
TZNAME:CEST
DTSTART:19700329T020000
RRULE:FREQ=YEARLY;BYMONTH=3;BYDAY=-1SU
END:DAYLIGHT
BEGIN:STANDARD
TZOFFSETFROM:+0200
TZOFFSETTO:+0100
TZNAME:CET
DTSTART:19701025T030000
RRULE:FREQ=YEARLY;BYMONTH=10;BYDAY=-1SU
END:STANDARD
END:VTIMEZONE
BEGIN:VEVENT
UID:6339722:Event:209426
DTSTAMP:20260423T162059Z
SUMMARY:Scène slam ouverte au Bar A Breizh
DESCRIPTION:Une scène slam ouverte sera proposée à quiconque voudra
  déclamer ses propres textes ou ceux d'autres auteurs célèbres ou n
 on.\nDes animations musicales ponctueront également la soirée.\nVene
 z nombreux, entre amis ou en famille, passer un moment agréable dans 
 un lieu convivial.\n\nPour en savoir plus, rendez-vous sur http://www.
 breizhbook.com/events/sc-ne-slam-ouverte-au-bar-a-breizh
DTSTART;TZID=Europe/Paris:20130914T200000
DTEND;TZID=Europe/Paris:20130915T010000
CATEGORIES:scène, slam, ouverte, et, musique
LOCATION:Bar A Breizh, 6 Rue de la Mairie, 22480, Saint-Connan
WEBSITE:
URL:
CONTACT:
ORGANIZER;CN="Claire Morin":http://www.breizhbook.com/profile/ClaireMo
 rin
ATTACH;FMTTYPE="image/jpeg":http://storage.ning.com/topology/rest/1.0/
 file/get/3198359883?profile=original
ATTENDEE;ROLE=REQ-PARTICIPANT;PARTSTAT=ACCEPTED;RSVP=TRUE;CN="Claire M
 orin":http://www.breizhbook.com/profile/ClaireMorin
END:VEVENT
END:VCALENDAR
