BEGIN:VCALENDAR
PRODID:NingEventWidget-v1
VERSION:2.0
METHOD:PUBLISH
BEGIN:VTIMEZONE
TZID:Europe/Paris
X-LIC-LOCATION:Europe/Paris
BEGIN:DAYLIGHT
TZOFFSETFROM:+0100
TZOFFSETTO:+0200
TZNAME:CEST
DTSTART:19700329T020000
RRULE:FREQ=YEARLY;BYMONTH=3;BYDAY=-1SU
END:DAYLIGHT
BEGIN:STANDARD
TZOFFSETFROM:+0200
TZOFFSETTO:+0100
TZNAME:CET
DTSTART:19701025T030000
RRULE:FREQ=YEARLY;BYMONTH=10;BYDAY=-1SU
END:STANDARD
END:VTIMEZONE
BEGIN:VEVENT
UID:6339722:Event:143738
DTSTAMP:20260423T171109Z
SUMMARY:Salon du livre
DESCRIPTION: Les 8 et 9 Décembre 2012 de 10 à 18 heures, je dédica
 ce mes deux derniers livres. Je serais sur le stand des Editions Dédi
 caces dont j'en suis le responsable en l'absence de mon éditeur canad
 ien.\nTitre de mes livres : \n   1) Quelques mots posés là...   
   Recueil de poèmes\n   2) Coups pourris à Neuilly sur Essonne  
   Policier\n\nPour en savoir plus, rendez-vous sur http://www.breizhb
 ook.com/events/salon-du-livre
DTSTART;TZID=Europe/Paris:20121208T100000
DTEND;TZID=Europe/Paris:20121209T200000
CATEGORIES:festival, du, livre
LOCATION:Gymnase René Guitton (près de la piscine)
WEBSITE:http://www.salondulivreidf.fr
URL:http://www.salondulivreidf.fr
CONTACT:
ORGANIZER:Ville de Mennecy - stand dedicaces.ca - Porcher Gérard
ATTACH;FMTTYPE="image/jpeg":http://storage.ning.com/topology/rest/1.0/
 file/get/3198330565?profile=original
ATTENDEE;ROLE=REQ-PARTICIPANT;PARTSTAT=ACCEPTED;RSVP=TRUE;CN=Porcher:h
 ttp://www.breizhbook.com/profile/Porcher
END:VEVENT
END:VCALENDAR
