BEGIN:VCALENDAR
PRODID:NingEventWidget-v1
VERSION:2.0
METHOD:PUBLISH
BEGIN:VTIMEZONE
TZID:Europe/Paris
X-LIC-LOCATION:Europe/Paris
BEGIN:DAYLIGHT
TZOFFSETFROM:+0100
TZOFFSETTO:+0200
TZNAME:CEST
DTSTART:19700329T020000
RRULE:FREQ=YEARLY;BYMONTH=3;BYDAY=-1SU
END:DAYLIGHT
BEGIN:STANDARD
TZOFFSETFROM:+0200
TZOFFSETTO:+0100
TZNAME:CET
DTSTART:19701025T030000
RRULE:FREQ=YEARLY;BYMONTH=10;BYDAY=-1SU
END:STANDARD
END:VTIMEZONE
BEGIN:VEVENT
UID:6339722:Event:215020
DTSTAMP:20260423T161957Z
SUMMARY:Salon du livre de Lanvollon
DESCRIPTION:Salon des auteurs et des Ã©crivains costarmoricains et bre
 tons d'ici et d'ailleurs.Â Salon organisÃ© par Plumes d'Armor sous l'Ã
 ©gide de la BibliothÃ¨que pour Tous de Lanvollon avec la volontÃ© des 
 Ã©lus dÃ©partementaux et le concours actif de la mairie de Lanvollon.\
 n\nPour en savoir plus, rendez-vous sur http://www.breizhbook.com/even
 ts/salon-du-livre-de-lanvollon
DTSTART;TZID=Europe/Paris:20140426T100000
DTEND;TZID=Europe/Paris:20140426T190000
CATEGORIES:salon, du, livre, et, des, auteurs, bretons
LOCATION:Lanvollon - Salle polyvalente rue du TrÃ©gor - Parking du sta
 de
WEBSITE:
URL:
CONTACT:
ORGANIZER;CN="Salon du Livre Lanvollon":http://www.breizhbook.com/prof
 ile/SalonDuLivreLanvollon
ATTACH;FMTTYPE="image/jpeg":http://storage.ning.com/topology/rest/1.0/
 file/get/3198363902?profile=original
ATTENDEE;ROLE=REQ-PARTICIPANT;PARTSTAT=ACCEPTED;RSVP=TRUE;CN="Salon du
  Livre Lanvollon":http://www.breizhbook.com/profile/SalonDuLivreLanvol
 lon
END:VEVENT
END:VCALENDAR
