BEGIN:VCALENDAR
PRODID:NingEventWidget-v1
VERSION:2.0
METHOD:PUBLISH
BEGIN:VTIMEZONE
TZID:Europe/Paris
X-LIC-LOCATION:Europe/Paris
BEGIN:DAYLIGHT
TZOFFSETFROM:+0100
TZOFFSETTO:+0200
TZNAME:CEST
DTSTART:19700329T020000
RRULE:FREQ=YEARLY;BYMONTH=3;BYDAY=-1SU
END:DAYLIGHT
BEGIN:STANDARD
TZOFFSETFROM:+0200
TZOFFSETTO:+0100
TZNAME:CET
DTSTART:19701025T030000
RRULE:FREQ=YEARLY;BYMONTH=10;BYDAY=-1SU
END:STANDARD
END:VTIMEZONE
BEGIN:VEVENT
UID:6339722:Event:137541
DTSTAMP:20260423T175849Z
SUMMARY:SALON des ARTS du BOIS à PONT PEAN (35)
DESCRIPTION:Les 24 et 25 novembre 2012, Les Copeaux de MERLIN exposero
 nt au Salon des Arts du Bois à PONT PEAN (35). Tout le programme sous
  : http://pontpean.fr/salon-arts-bois. Merci de votre visite.\n\nPour 
 en savoir plus, rendez-vous sur http://www.breizhbook.com/events/salon
 -des-arts-du-bois-pont-pean-35
DTSTART;TZID=Europe/Paris:20121124T133000
DTEND;TZID=Europe/Paris:20121125T183000
CATEGORIES:art
LOCATION:Salles Jacques Gourdais (35) PONT PEAN
WEBSITE:
URL:
CONTACT:
ORGANIZER;CN="Les copeaux de MERLIN":http://www.breizhbook.com/profile
 /LESCOPEAUXDEMERLIN
ATTACH;FMTTYPE="image/jpeg":http://storage.ning.com/topology/rest/1.0/
 file/get/3198327389?profile=original
ATTENDEE;ROLE=REQ-PARTICIPANT;PARTSTAT=ACCEPTED;RSVP=TRUE;CN="Les cope
 aux de MERLIN":http://www.breizhbook.com/profile/LESCOPEAUXDEMERLIN
END:VEVENT
END:VCALENDAR
