BEGIN:VCALENDAR
PRODID:NingEventWidget-v1
VERSION:2.0
METHOD:PUBLISH
BEGIN:VTIMEZONE
TZID:Europe/Paris
X-LIC-LOCATION:Europe/Paris
BEGIN:DAYLIGHT
TZOFFSETFROM:+0100
TZOFFSETTO:+0200
TZNAME:CEST
DTSTART:19700329T020000
RRULE:FREQ=YEARLY;BYMONTH=3;BYDAY=-1SU
END:DAYLIGHT
BEGIN:STANDARD
TZOFFSETFROM:+0200
TZOFFSETTO:+0100
TZNAME:CET
DTSTART:19701025T030000
RRULE:FREQ=YEARLY;BYMONTH=10;BYDAY=-1SU
END:STANDARD
END:VTIMEZONE
BEGIN:VEVENT
UID:6339722:Event:164361
DTSTAMP:20260423T163541Z
SUMMARY:Saint Patrick à Monaco
DESCRIPTION:Brasserie de Monaco, brasseur Breton (moi), Saint patrick 
 à feter sur le port de monaco du 1( au 17 mars, avis aux expatriés c
 omme moi! \n\nPour en savoir plus, rendez-vous sur http://www.breizhb
 ook.com/events/saint-patrick-monaco
DTSTART;TZID=Europe/Paris:20130315T180000
DTEND;TZID=Europe/Paris:20130318T030000
CATEGORIES:party
LOCATION:Brasserie de Monaco
WEBSITE:
URL:
CONTACT:
ORGANIZER;CN="François Pichon":http://www.breizhbook.com/profile/Fran
 coisPichon
ATTACH;FMTTYPE="image/jpeg":
ATTENDEE;ROLE=REQ-PARTICIPANT;PARTSTAT=ACCEPTED;RSVP=TRUE;CN="Françoi
 s Pichon":http://www.breizhbook.com/profile/FrancoisPichon
END:VEVENT
END:VCALENDAR
