BEGIN:VCALENDAR
PRODID:NingEventWidget-v1
VERSION:2.0
METHOD:PUBLISH
BEGIN:VTIMEZONE
TZID:Europe/Paris
X-LIC-LOCATION:Europe/Paris
BEGIN:DAYLIGHT
TZOFFSETFROM:+0100
TZOFFSETTO:+0200
TZNAME:CEST
DTSTART:19700329T020000
RRULE:FREQ=YEARLY;BYMONTH=3;BYDAY=-1SU
END:DAYLIGHT
BEGIN:STANDARD
TZOFFSETFROM:+0200
TZOFFSETTO:+0100
TZNAME:CET
DTSTART:19701025T030000
RRULE:FREQ=YEARLY;BYMONTH=10;BYDAY=-1SU
END:STANDARD
END:VTIMEZONE
BEGIN:VEVENT
UID:6339722:Event:152295
DTSTAMP:20260423T161002Z
SUMMARY:RIVOAL
DESCRIPTION:agri%20immo%20MORELLI%20sans%20RODRIG.doc\n\nPour en savoi
 r plus, rendez-vous sur http://www.breizhbook.com/events/rivoal
DTSTART;TZID=Europe/Paris:20130223T180000
DTEND;TZID=Europe/Paris:20140124T190000
CATEGORIES:expertises, agricoles, et, immobilieres
LOCATION:KERBAIL
WEBSITE:
URL:
CONTACT:0681307346
ORGANIZER;CN=Rivoal:http://www.breizhbook.com/profile/Rivoal766
ATTACH;FMTTYPE="image/jpeg":http://storage.ning.com/topology/rest/1.0/
 file/get/3198333306?profile=original
ATTENDEE;ROLE=REQ-PARTICIPANT;PARTSTAT=ACCEPTED;RSVP=TRUE;CN=Rivoal:ht
 tp://www.breizhbook.com/profile/Rivoal766
END:VEVENT
END:VCALENDAR
