BEGIN:VCALENDAR
PRODID:NingEventWidget-v1
VERSION:2.0
METHOD:PUBLISH
BEGIN:VTIMEZONE
TZID:Europe/Paris
X-LIC-LOCATION:Europe/Paris
BEGIN:DAYLIGHT
TZOFFSETFROM:+0100
TZOFFSETTO:+0200
TZNAME:CEST
DTSTART:19700329T020000
RRULE:FREQ=YEARLY;BYMONTH=3;BYDAY=-1SU
END:DAYLIGHT
BEGIN:STANDARD
TZOFFSETFROM:+0200
TZOFFSETTO:+0100
TZNAME:CET
DTSTART:19701025T030000
RRULE:FREQ=YEARLY;BYMONTH=10;BYDAY=-1SU
END:STANDARD
END:VTIMEZONE
BEGIN:VEVENT
UID:6339722:Event:206425
DTSTAMP:20260423T164412Z
SUMMARY:Reprise des cours de danse et de fitness à Dinard
DESCRIPTION:Reprise des cours de danse et de fitness au Cosec de Dinar
 d, salle G1 : Lundi 02 Septembre.\n \n- 17 h, funk/hip-hop/afro/ragg
 a (enfants de 7 à 10 ans),\n- 18 h, funk/hip-hop/afro/ragga (adolesce
 nts de 11 à 14 ans),\n- 19 h, funk/hip-hop/afro/ragga (adultes + de 1
 5 ans),\n- 20 h, step (adolescents et adultes)\n \nLes cours sont ass
 urés par Alexandra Poirier-Madiot diplômée du Creps de Dinard.\n \
 nA RETENIR:\n=> Cours du Lundi 02 Septembre 2013 au Vendredi 27 Juin 2
 014 (sauf les jours fériés et pendant les vacances scolaires de la Z
 one A)\n=> Possibilité d’intégrer les cours aux rentrées des vaca
 nces scolaires (sous réserve des places disponibles dans les cours).\
 n=> Facilité de paiement.\n \nContact et réservation : tél. 02 99 
 81 14 79, 06 09 47 06 56, info@generation-fitness.com, www.generation-
 fitness.com.\n\nhttp://www.youtube.com/watch?v=-wNdiQrpasY\n\nPour en 
 savoir plus, rendez-vous sur http://www.breizhbook.com/events/reprise-
 des-cours-de-danse-et-de-fitness-dinard
DTSTART;TZID=Europe/Paris:20130902T170000
DTEND;TZID=Europe/Paris:20130902T210000
CATEGORIES:reprise, des, cours, de, danse
LOCATION:Cosec de Dinard, salle polyvalente
WEBSITE:http://www.generation-fitness.com
URL:http://www.generation-fitness.com
CONTACT:06.09.47.06.56
ORGANIZER;CN=Génération-Fitness:http://www.breizhbook.com/profile/Ge
 nerationFitness
ATTACH;FMTTYPE="image/jpeg":http://storage.ning.com/topology/rest/1.0/
 file/get/3097099974?profile=original
ATTENDEE;ROLE=REQ-PARTICIPANT;PARTSTAT=ACCEPTED;RSVP=TRUE;CN=Générat
 ion-Fitness:http://www.breizhbook.com/profile/GenerationFitness
END:VEVENT
END:VCALENDAR
