BEGIN:VCALENDAR
PRODID:NingEventWidget-v1
VERSION:2.0
METHOD:PUBLISH
BEGIN:VTIMEZONE
TZID:Europe/Paris
X-LIC-LOCATION:Europe/Paris
BEGIN:DAYLIGHT
TZOFFSETFROM:+0100
TZOFFSETTO:+0200
TZNAME:CEST
DTSTART:19700329T020000
RRULE:FREQ=YEARLY;BYMONTH=3;BYDAY=-1SU
END:DAYLIGHT
BEGIN:STANDARD
TZOFFSETFROM:+0200
TZOFFSETTO:+0100
TZNAME:CET
DTSTART:19701025T030000
RRULE:FREQ=YEARLY;BYMONTH=10;BYDAY=-1SU
END:STANDARD
END:VTIMEZONE
BEGIN:VEVENT
UID:6339722:Event:129502
DTSTAMP:20260423T175301Z
SUMMARY:Repas Jambon à l'os
DESCRIPTION:Jambon à l'os au menu ce mardi 14 Août 2012.\nVous n'ave
 z toujours rien de prévu, alors je vous invite à y venir.\n\nPour pl
 us d'informations : 02 91 74 61 54.\nN'hésitez pas à réserver !!\n\
 nPour en savoir plus, rendez-vous sur http://www.breizhbook.com/events
 /repas-jambon-l-os
DTSTART;TZID=Europe/Paris:20120814T000000
DTEND;TZID=Europe/Paris:20120814T235900
CATEGORIES:repas
LOCATION:Le lion d'or
WEBSITE:
URL:
CONTACT:
ORGANIZER;CN="Le lion d'or":http://www.breizhbook.com/profile/Leliondo
 r
ATTACH;FMTTYPE="image/jpeg":
ATTENDEE;ROLE=REQ-PARTICIPANT;PARTSTAT=ACCEPTED;RSVP=TRUE;CN="Le lion 
 d'or":http://www.breizhbook.com/profile/Leliondor
END:VEVENT
END:VCALENDAR
