BEGIN:VCALENDAR
PRODID:NingEventWidget-v1
VERSION:2.0
METHOD:PUBLISH
BEGIN:VTIMEZONE
TZID:Europe/Paris
X-LIC-LOCATION:Europe/Paris
BEGIN:DAYLIGHT
TZOFFSETFROM:+0100
TZOFFSETTO:+0200
TZNAME:CEST
DTSTART:19700329T020000
RRULE:FREQ=YEARLY;BYMONTH=3;BYDAY=-1SU
END:DAYLIGHT
BEGIN:STANDARD
TZOFFSETFROM:+0200
TZOFFSETTO:+0100
TZNAME:CET
DTSTART:19701025T030000
RRULE:FREQ=YEARLY;BYMONTH=10;BYDAY=-1SU
END:STANDARD
END:VTIMEZONE
BEGIN:VEVENT
UID:6339722:Event:118980
DTSTAMP:20260423T192600Z
SUMMARY:Rencontre avec Yann AppÃ©rÃ©
DESCRIPTION:Yann AppÃ©rÃ©  Le destin de Jean-Jacques (Ã©d. Dorval)   E
 n 1772, au cours dâ€™une promenade dans Paris, Jean-Jacques rencontre 
 Gabriel (personnage imaginaire) avec lequel sâ€™instaure un dialogue q
 ui servira dâ€™accompagnement au rÃ©cit biographique. Lâ€™auteur fait 
 dÃ©marrer ce rÃ©cit Ã  Bossey, petit village tout prÃ¨s de GenÃ¨ve, oÃ
 ¹ Jean-Jacques fut confiÃ© Ã  son pasteur, Ã  lâ€™Ã¢ge de dix ans, apr
 Ã¨s avoir perdu sa mÃ¨re (morte Ã  sa naissance en 1712) alors que son
  pÃ¨re Ã©tait en exil.  Jean-Jacques est confiÃ© deux ans plus tard Ã 
  un maÃ®tre dâ€™apprentissage Ã  GenÃ¨ve, dâ€™oÃ¹ il sâ€™enfuit Ã  sei
 ze ans.  Le destin vient Ã  sa rencontre avec Mme Warensâ€¦   Biograph
 ie : AprÃ¨s avoir fait carriÃ¨re comme nÃ©gociateur international dans
  une banque, Yann AppÃ©rÃ© s'est installÃ© en Bretagne, en 1987, pour 
 Ã©crire.\n\nPour en savoir plus, rendez-vous sur http://www.breizhbook
 .com/events/rencontre-avec-yann-app-r
DTSTART;TZID=Europe/Paris:20120511T180000
DTEND;TZID=Europe/Paris:20120511T190000
CATEGORIES:rencontre-dÃ©dicace
LOCATION:CafÃ© de la librairie Dialogues
WEBSITE:
URL:
CONTACT:
ORGANIZER;CN="Librairie Dialogues":http://www.breizhbook.com/profile/L
 ibrairieDialogues
ATTACH;FMTTYPE="image/jpeg":http://storage.ning.com/topology/rest/1.0/
 file/get/3198316835?profile=original
ATTENDEE;ROLE=REQ-PARTICIPANT;PARTSTAT=ACCEPTED;RSVP=TRUE;CN="Librairi
 e Dialogues":http://www.breizhbook.com/profile/LibrairieDialogues
END:VEVENT
END:VCALENDAR
