BEGIN:VCALENDAR
PRODID:NingEventWidget-v1
VERSION:2.0
METHOD:PUBLISH
BEGIN:VTIMEZONE
TZID:Europe/Paris
X-LIC-LOCATION:Europe/Paris
BEGIN:DAYLIGHT
TZOFFSETFROM:+0100
TZOFFSETTO:+0200
TZNAME:CEST
DTSTART:19700329T020000
RRULE:FREQ=YEARLY;BYMONTH=3;BYDAY=-1SU
END:DAYLIGHT
BEGIN:STANDARD
TZOFFSETFROM:+0200
TZOFFSETTO:+0100
TZNAME:CET
DTSTART:19701025T030000
RRULE:FREQ=YEARLY;BYMONTH=10;BYDAY=-1SU
END:STANDARD
END:VTIMEZONE
BEGIN:VEVENT
UID:6339722:Event:120713
DTSTAMP:20260423T161149Z
SUMMARY:Rencontre avec Maud Haymovici
DESCRIPTION:Maud HaymoviciÂ Le dernier cours dâ€™histoire, ce juif de 
 la France libre qui aimait la Bretagne (Ã©d. lâ€™Apart)Â Un professeur
  dâ€™histoire est confrontÃ© brutalement Ã  lâ€™Ã¢ge de cinquante ans 
 Ã  sa propre histoire : un jour de printemps dâ€™avril arrive sur le b
 ureau du Proviseur dâ€™un grand lycÃ©e parisien un avis de recherche Ã
   lâ€™adresse dâ€™une femme prÃ©nommÃ©e Maud, bretonne dâ€™origine, qu
 i y enseigne lâ€™histoire. Un pÃ¨re, mÃ©decin juif roumain quâ€™elle n
 â€™a rencontrÃ© briÃ¨ve- ment que trois fois dans sa vie la recherche.
  Elle le croit mort...Â La reconstitution, aprÃ¨s soixante-dix ans de 
 silence et dâ€™oubli, de lâ€™histoire vÃ©ritable de ce pÃ¨re est lâ€™o
 ccasion de croiser trois pages dâ€™histoire et de mÃ©moire sur fond de
  deuxiÃ¨me guerre mondiale : celle de la Bretagne restÃ©e longtemps Â«
  une terre de prÃªtres Â», celle du judaÃ¯sme europÃ©en et particuliÃ¨
 rement roumain, enfin celle la France Libre avec le gÃ©nÃ©ral de Gaull
 e qui reÃ§oit le ralliement de ce jeune mÃ©decin en 1942, lui mettant 
 la main sur lâ€™Ã©paule.Â Biographie :Â AgrÃ©gÃ©e dâ€™histoire, Maud H
 aymovici a enseignÃ© cette matiÃ¨re dans un lycÃ©e parisien. Aujourdâ€
 ™hui confÃ©renciÃ¨re, elle anime des voyages culturels. Le dernier cou
 rs dâ€™histoire est son premier ouvrage.\n\nPour en savoir plus, rende
 z-vous sur http://www.breizhbook.com/events/rencontre-avec-maud-haymov
 ici
DTSTART;TZID=Europe/Paris:20120522T180000
DTEND;TZID=Europe/Paris:20120522T190000
CATEGORIES:rencontre-dÃ©dicace
LOCATION:CafÃ© de la librairie Dialogues
WEBSITE:
URL:
CONTACT:
ORGANIZER;CN="Librairie Dialogues":http://www.breizhbook.com/profile/L
 ibrairieDialogues
ATTACH;FMTTYPE="image/jpeg":http://storage.ning.com/topology/rest/1.0/
 file/get/3198318609?profile=original
ATTENDEE;ROLE=REQ-PARTICIPANT;PARTSTAT=ACCEPTED;RSVP=TRUE;CN="Librairi
 e Dialogues":http://www.breizhbook.com/profile/LibrairieDialogues
END:VEVENT
END:VCALENDAR
