BEGIN:VCALENDAR
PRODID:NingEventWidget-v1
VERSION:2.0
METHOD:PUBLISH
BEGIN:VTIMEZONE
TZID:Europe/Paris
X-LIC-LOCATION:Europe/Paris
BEGIN:DAYLIGHT
TZOFFSETFROM:+0100
TZOFFSETTO:+0200
TZNAME:CEST
DTSTART:19700329T020000
RRULE:FREQ=YEARLY;BYMONTH=3;BYDAY=-1SU
END:DAYLIGHT
BEGIN:STANDARD
TZOFFSETFROM:+0200
TZOFFSETTO:+0100
TZNAME:CET
DTSTART:19701025T030000
RRULE:FREQ=YEARLY;BYMONTH=10;BYDAY=-1SU
END:STANDARD
END:VTIMEZONE
BEGIN:VEVENT
UID:6339722:Event:120243
DTSTAMP:20260423T175311Z
SUMMARY:Rencontre avec Jean-Pierre Le Dantec
DESCRIPTION:Jean-Pierre Le Dantec  Ile Grande (Ã©d. Dialogues).   Vict
 ime de la malaria, Joseph Conrad est contraint en 1896 dâ€™abandonner 
 la marine pour la littÃ©rature devenue dÃ©sormais Â« son seul moyen dâ
 €™existence Â». Il Ã©pouse une jeune secrÃ©taire londonienne prÃ©nommÃ
 ©e Jessie et se retire avec elle pour Ã©crire, Ã  ÃŽle-Grande.  Câ€™es
 t ce sÃ©jour de six mois, dÃ©cisif dans la carriÃ¨re littÃ©raire de lâ
 €™auteur de \"Lord Jim\", \"Typhon\" ou \"Au CÅ“ur des tÃ©nÃ¨bres\", q
 ui constitue la trame de ce roman. Dans lâ€™un des lieux les plus sauv
 ages de la cÃ´te nord de Bretagne, en proie aux doutes et aux colÃ¨res
 , mais aussi parfois aux bonheurs, Conrad sâ€™efforce de venir Ã  bout
  dâ€™un roman quâ€™il nâ€™achÃ¨vera que vingt annÃ©es plus tard : \"La
  Rescousse\".  Si, pour donner forme Ã  son rÃ©cit, Jean-Pierre Le Dan
 tec â€“ qui a habitÃ© lui-mÃªme un temps Ã  ÃŽle-Grande - a pris appui
  sur toute la documentation disponible, ce livre nâ€™est pas pour auta
 nt un exercice biographique. Brisant le cadre rÃ©aliste au nom de la l
 ibertÃ© du roman qui permet dâ€™atteindre, selon lui, des vÃ©ritÃ©s pl
 us profondes, Le Dantec Â« invente des personnages qui ont existÃ© Â» 
 et tisse entre Conrad et lui des fils, des doutes et des interrogation
 s partagÃ©es sur la littÃ©rature et la violence du monde moderne.   Bi
 ographie :  IngÃ©nieur, architecte-urbaniste, enseignant et directeur 
 de lâ€™ENS dâ€™architecture de Paris-la-Villette, Jean-Pierre Le Dante
 c est lâ€™auteur de nombreux essais et de quatre romans.   Bibliograph
 ie :  Grande Ile (Ã©d. La Table Ronde)  Les Corps subtils (Ã©d. Du Seu
 il)  Etourdissements (Ã©d. Du Seuil)\n\nPour en savoir plus, rendez-vo
 us sur http://www.breizhbook.com/events/rencontre-avec-jean-pierre-le-
 dantec
DTSTART;TZID=Europe/Paris:20120518T180000
DTEND;TZID=Europe/Paris:20120518T190000
CATEGORIES:rencontre-dÃ©dicace
LOCATION:CafÃ© de la librairie Dialogues
WEBSITE:
URL:
CONTACT:
ORGANIZER;CN="Librairie Dialogues":http://www.breizhbook.com/profile/L
 ibrairieDialogues
ATTACH;FMTTYPE="image/jpeg":http://storage.ning.com/topology/rest/1.0/
 file/get/3198318331?profile=original
ATTENDEE;ROLE=REQ-PARTICIPANT;PARTSTAT=ACCEPTED;RSVP=TRUE;CN="Librairi
 e Dialogues":http://www.breizhbook.com/profile/LibrairieDialogues
END:VEVENT
END:VCALENDAR
