BEGIN:VCALENDAR
PRODID:NingEventWidget-v1
VERSION:2.0
METHOD:PUBLISH
BEGIN:VTIMEZONE
TZID:Europe/Paris
X-LIC-LOCATION:Europe/Paris
BEGIN:DAYLIGHT
TZOFFSETFROM:+0100
TZOFFSETTO:+0200
TZNAME:CEST
DTSTART:19700329T020000
RRULE:FREQ=YEARLY;BYMONTH=3;BYDAY=-1SU
END:DAYLIGHT
BEGIN:STANDARD
TZOFFSETFROM:+0200
TZOFFSETTO:+0100
TZNAME:CET
DTSTART:19701025T030000
RRULE:FREQ=YEARLY;BYMONTH=10;BYDAY=-1SU
END:STANDARD
END:VTIMEZONE
BEGIN:VEVENT
UID:6339722:Event:119061
DTSTAMP:20260423T182602Z
SUMMARY:Rencontre avec Jean-Christophe Deshayes et Gaëlle Allaert-Gra
 ll
DESCRIPTION:Jean-Christophe Deshayes et Gaëlle Allaert-Grall  Auschwi
 tz-Birkenau dans le processus génocidaire\n Auschwitz-Birkenau au cœ
 ur du processus génocidaire est un dévédérom qui permet d’étudi
 er la genèse, les mécanismes et les multiples aspects du processus g
 énocidaire à travers l’histoire et la mémoire du camp d’Auschwi
 tz II-Birkenau, le plus grand des six centres de mise à mort par sa t
 aille, par la mécanique de l’assassinat de masse mis en œuvre par 
 les nazis et par le nombre de victimes.  Pour la première fois, un ou
 til permet de visualiser le parallèle entre la chronologie du camp, c
 elle de la destruction des Juifs et de l’assassinat des Tsiganes à 
 l’échelle européenne et celle de la Seconde Guerre mondiale. Cette
  démarche est appuyée par de très nombreux documents textuels (arch
 ives, témoignages) et iconographiques(plus de 400 photos, dessins et 
 panoramas), dont des inédits.   Cette ressource exceptionnelle pour l
 ’enseignement est accompagnée d’une réflexion sur la mémoire du
  camp, de mises au point scientifiques par l’historien Georges Benso
 ussan et d’aides pédagogiques.\n Biographie : Jean-Christophe Desha
 yes et Gaëlle Allaert-Grall sont tous deux professeurs d’histoire-g
 éographie.\n\nPour en savoir plus, rendez-vous sur http://www.breizhb
 ook.com/events/rencontre-avec-jean-christophe-deshayes-et-ga-lle-allae
 rt-grall
DTSTART;TZID=Europe/Paris:20120509T180000
DTEND;TZID=Europe/Paris:20120509T190000
CATEGORIES:rencontre-dédicace
LOCATION:Librairie Dialogues
WEBSITE:http://www.librairiedialogues.fr
URL:http://www.librairiedialogues.fr
CONTACT:
ORGANIZER;CN="Librairie Dialogues":http://www.breizhbook.com/profile/L
 ibrairieDialogues
ATTACH;FMTTYPE="image/jpeg":http://storage.ning.com/topology/rest/1.0/
 file/get/3198316589?profile=original
ATTENDEE;ROLE=REQ-PARTICIPANT;PARTSTAT=ACCEPTED;RSVP=TRUE;CN="Librairi
 e Dialogues":http://www.breizhbook.com/profile/LibrairieDialogues
END:VEVENT
END:VCALENDAR
