BEGIN:VCALENDAR
PRODID:NingEventWidget-v1
VERSION:2.0
METHOD:PUBLISH
BEGIN:VTIMEZONE
TZID:Europe/Paris
X-LIC-LOCATION:Europe/Paris
BEGIN:DAYLIGHT
TZOFFSETFROM:+0100
TZOFFSETTO:+0200
TZNAME:CEST
DTSTART:19700329T020000
RRULE:FREQ=YEARLY;BYMONTH=3;BYDAY=-1SU
END:DAYLIGHT
BEGIN:STANDARD
TZOFFSETFROM:+0200
TZOFFSETTO:+0100
TZNAME:CET
DTSTART:19701025T030000
RRULE:FREQ=YEARLY;BYMONTH=10;BYDAY=-1SU
END:STANDARD
END:VTIMEZONE
BEGIN:VEVENT
UID:6339722:Event:120844
DTSTAMP:20260423T175259Z
SUMMARY:Rencontre avec Gilles Paris
DESCRIPTION:Gilles Paris  Au pays des kangourous (Ã©d. Don Quichotte) 
  Â« Ce matin, jâ€™ai trouvÃ© papa dans le lave-vaisselle.  En entrant 
 dans la cuisine, jâ€™ai vu le panier en plastique sur le sol, avec le 
 reste de la vaisselle dâ€™hier soir.  Jâ€™ai ouvert le lave-vaisselle,
  papa Ã©tait dedans.  Il mâ€™a regardÃ© comme le chien de la voisine d
 u dessous quand il fait pipi dans les escaliers. Il Ã©tait tout repliÃ
 © sur lui-mÃªme. Et je ne sais pas comment il a pu rentrer dedans : il
  est grand mon papa. Â»  Simon, neuf ans, vit avec son pÃ¨re Paul et s
 a mÃ¨re Carole dans un vaste appartement parisien. En fait, le couple 
 nâ€™en est plus un depuis longtemps, la faute au mÃ©tier de Carole, qu
 i lâ€™accapare. Paul est Ã©crivain, il Ã©crit pour les autres. Carole 
 est une femme dâ€™affaires, elle passe sa vie en Australie, loin dâ€™u
 n mari quâ€™elle nâ€™admire plus et dâ€™un enfant quâ€™elle ne sait pa
 s aimer. Le jour oÃ¹ Paul est internÃ© pour dÃ©pression, Simon voit so
 n quotidien bouleversÃ©.   Biographie :  Documentaliste, pigiste puis 
 directeur du service presse des Ã©ditions Plon pendant dix ans, Gilles
  Paris dirige aujourdâ€™hui une agence de communication.   Bibliograph
 ie :  Papa et maman sont morts (Ã©d. Point-Virgule)  Autobiographie dâ
 €™une courgette (Ã©d. Plon)\n\nPour en savoir plus, rendez-vous sur ht
 tp://www.breizhbook.com/events/rencontre-avec-gilles-paris
DTSTART;TZID=Europe/Paris:20120524T180000
DTEND;TZID=Europe/Paris:20120524T190000
CATEGORIES:rencontre-dÃ©dicace
LOCATION:CafÃ© de la librairie Dialogues
WEBSITE:
URL:
CONTACT:
ORGANIZER;CN="Librairie Dialogues":http://www.breizhbook.com/profile/L
 ibrairieDialogues
ATTACH;FMTTYPE="image/jpeg":http://storage.ning.com/topology/rest/1.0/
 file/get/3198317894?profile=original
ATTENDEE;ROLE=REQ-PARTICIPANT;PARTSTAT=ACCEPTED;RSVP=TRUE;CN="Librairi
 e Dialogues":http://www.breizhbook.com/profile/LibrairieDialogues
END:VEVENT
END:VCALENDAR
