BEGIN:VCALENDAR
PRODID:NingEventWidget-v1
VERSION:2.0
METHOD:PUBLISH
BEGIN:VTIMEZONE
TZID:Europe/Paris
X-LIC-LOCATION:Europe/Paris
BEGIN:DAYLIGHT
TZOFFSETFROM:+0100
TZOFFSETTO:+0200
TZNAME:CEST
DTSTART:19700329T020000
RRULE:FREQ=YEARLY;BYMONTH=3;BYDAY=-1SU
END:DAYLIGHT
BEGIN:STANDARD
TZOFFSETFROM:+0200
TZOFFSETTO:+0100
TZNAME:CET
DTSTART:19701025T030000
RRULE:FREQ=YEARLY;BYMONTH=10;BYDAY=-1SU
END:STANDARD
END:VTIMEZONE
BEGIN:VEVENT
UID:6339722:Event:121623
DTSTAMP:20260423T181708Z
SUMMARY:Rencontre avec Alain Boulaire
DESCRIPTION:Alain Boulaire\nJohn Paul Jones (éd. Le Télégramme)\nC'
 est dans le sillage d'un véritable aventurier que cette biographie de
  John Paul Jones (1747-1792) entraîne son lecteur. Pourtant rien ne d
 estinait ce fils de jardinier écossais à devenir un des premiers com
 mandants de la flotte de la toute jeune République des Etats-Unis et 
 encore moins amiral de la Grande Catherine, impératrice de Russie.\nR
 ien, si ce n'est son attirance pour la mer qui fit qu'il embarqua comm
 e mousse à destination de l'Amérique à l'âge de 13 ans; rien sinon
  qu'il détestait les Anglais et prit le parti des Insurgents américa
 ins. Armé par la France qui soutenait la révolte des colonies améri
 caines, protégé par Benjamin Franklin et Thomas Jefferson, excellent
  marin et fin tacticien, il chassa à la course les navires anglais de
 puis les ports de Lorient et Brest. Sa notoriété parvint jusqu'à la
  cour de Russie où l'impératrice Catherine II lui confia le commande
 ment de sa flotte sur la mer Noire. Il remporta des victoires navales 
 décisives sur les Ottomans, mais s'éloigna d'une cour où régnaient
  les intrigues. Il vécut les derniers mois de sa vie à Paris sous la
  Révolution et mourut sans savoir que le gouvernement américain vena
 it de le nommer consul à Alger afin de pourchasser les pirates barbar
 esques en Méditerranée. Une nouvelle aventure qu'il appelait de ses 
 voeux. Reconnu par le gouverneur des Etats-Unis comme un des fondateur
 s de la marine américaine, il repose aujourd'hui dans une crypte de l
 a chapelle de l'Académie navale d'Annapolis aux USA.\n\nBiographie :\
 nNé à Brest, Alain Boulaire est agrégé et docteur d’Etat en hist
 oire. Ses thèmes de prédilection sont Brest, la mer et l’histoire 
 de la marine.\n\nPour en savoir plus, rendez-vous sur http://www.breiz
 hbook.com/events/rencontre-avec-alain-boulaire
DTSTART;TZID=Europe/Paris:20120601T180000
DTEND;TZID=Europe/Paris:20120601T190000
CATEGORIES:rencontre-dédicace
LOCATION:Café de la librairie
WEBSITE:
URL:
CONTACT:
ORGANIZER;CN="Librairie Dialogues":http://www.breizhbook.com/profile/L
 ibrairieDialogues
ATTACH;FMTTYPE="image/jpeg":http://storage.ning.com/topology/rest/1.0/
 file/get/3198319019?profile=original
ATTENDEE;ROLE=REQ-PARTICIPANT;PARTSTAT=ACCEPTED;RSVP=TRUE;CN="Librairi
 e Dialogues":http://www.breizhbook.com/profile/LibrairieDialogues
END:VEVENT
END:VCALENDAR
