BEGIN:VCALENDAR
PRODID:NingEventWidget-v1
VERSION:2.0
METHOD:PUBLISH
BEGIN:VTIMEZONE
TZID:Europe/Paris
X-LIC-LOCATION:Europe/Paris
BEGIN:DAYLIGHT
TZOFFSETFROM:+0100
TZOFFSETTO:+0200
TZNAME:CEST
DTSTART:19700329T020000
RRULE:FREQ=YEARLY;BYMONTH=3;BYDAY=-1SU
END:DAYLIGHT
BEGIN:STANDARD
TZOFFSETFROM:+0200
TZOFFSETTO:+0100
TZNAME:CET
DTSTART:19701025T030000
RRULE:FREQ=YEARLY;BYMONTH=10;BYDAY=-1SU
END:STANDARD
END:VTIMEZONE
BEGIN:VEVENT
UID:6339722:Event:123576
DTSTAMP:20260423T181627Z
SUMMARY:Red Cardell en concert
DESCRIPTION:Red Cardell (29)\nPour préparer la fête de la musique en
  concert, les Red Cardell prennent de l'avance et seront en concert ce
  mardi (19 juin 2012).\nPlus d'info : http://blogarvro.blogspot.fr/\n
 \nPour en savoir plus, rendez-vous sur http://www.breizhbook.com/event
 s/red-cardell-en-concert
DTSTART;TZID=Europe/Paris:20120619T000000
DTEND;TZID=Europe/Paris:20120619T235900
CATEGORIES:concert
LOCATION:l'espace Glenmor
WEBSITE:http://blogarvro.blogspot.fr/
URL:http://blogarvro.blogspot.fr/
CONTACT:
ORGANIZER:
ATTACH;FMTTYPE="image/jpeg":
ATTENDEE;ROLE=REQ-PARTICIPANT;PARTSTAT=ACCEPTED;RSVP=TRUE;CN=Billigrad
 io:http://www.breizhbook.com/profile/Billigradio
END:VEVENT
END:VCALENDAR
