BEGIN:VCALENDAR
PRODID:NingEventWidget-v1
VERSION:2.0
METHOD:PUBLISH
BEGIN:VTIMEZONE
TZID:Europe/Paris
X-LIC-LOCATION:Europe/Paris
BEGIN:DAYLIGHT
TZOFFSETFROM:+0100
TZOFFSETTO:+0200
TZNAME:CEST
DTSTART:19700329T020000
RRULE:FREQ=YEARLY;BYMONTH=3;BYDAY=-1SU
END:DAYLIGHT
BEGIN:STANDARD
TZOFFSETFROM:+0200
TZOFFSETTO:+0100
TZNAME:CET
DTSTART:19701025T030000
RRULE:FREQ=YEARLY;BYMONTH=10;BYDAY=-1SU
END:STANDARD
END:VTIMEZONE
BEGIN:VEVENT
UID:6339722:Event:170546
DTSTAMP:20260423T175951Z
SUMMARY:RADIO CELTIC LANDS recrute des membres bÃ©nÃ©voles
DESCRIPTION:RADIO CELTIC LANDS recrute des membres bÃ©nÃ©voles motivÃ©
 s par lâ€™univers de la musique Celtique, le web et lâ€™organisation d
 â€™Ã©vÃ©nements. Quelque soit lâ€™activitÃ© exercÃ©e au sein de la str
 ucture nous demandons aux membres de lâ€™association du dynamisme, du 
 sÃ©rieux et un rÃ©el investissement sur la durÃ©e. Postes :\n\n1. Anim
 ation :\nAnimation dâ€™une Ã©mission musicale - Animation dâ€™une Ã©mi
 ssion Ã  contenu rÃ©dactionnel - Animation dâ€™une Ã©mission culturell
 e ou de divertissement\n\n2. Journalisme :\nJournalisme (reportages et
  rÃ©alisation de chroniques, enregistrÃ©es ou en direct) - Journalisme
  (rÃ©daction dâ€™articles web, prise de photos) - Programmation musica
 le : SÃ©lection et travail des morceaux de la playlist, relations avec
  les labels - RÃ©daction de compte rendus (concerts, festivals) et chr
 oniques dâ€™albums - RÃ©alisation dâ€™interviews dâ€™artistes.\n3. EvÃ
 ©nements et communication externe :\nConception de supports de communi
 cation (flyers, affiches...) - CrÃ©ation, dÃ©veloppement et gestion dâ
 €™une soirÃ©e ou Ã©vÃ©nement.\nMerci de prÃ©senter ce que vous souhait
 ez rÃ©aliser au sein de la structure (concept de lâ€™Ã©mission, style 
 musical, concept dâ€™Ã©vÃ©nement, de chronique...).\nIl est fortement 
 conseillÃ© dâ€™Ã©couter la radio et de se renseigner sur les programme
 s existant avant de proposer un concept.\nMerci de nous faire parvenir
  votre candidature par mail Ã  associationrcl@gmail.com ou par voix po
 stale : L'association Radio Celtic Lands - Douet Bruno 14 La Corbinais
  35890 LAILLE - FRANCE.\n\nPour en savoir plus, rendez-vous sur http:/
 /www.breizhbook.com/events/radio-celtic-lands-recrute-des-membres-b-n-
 voles
DTSTART;TZID=Europe/Paris:20130405T180000
DTEND;TZID=Europe/Paris:20130405T221500
CATEGORIES:radio, celtic, lands, recrute, des, membres, bÃ©nÃ©voles
LOCATION:radiocelticlands.com
WEBSITE:http://www.radiocelticlands.com
URL:http://www.radiocelticlands.com
CONTACT:
ORGANIZER:RADIO CELTIC LANDS
ATTACH;FMTTYPE="image/jpeg":
ATTENDEE;ROLE=REQ-PARTICIPANT;PARTSTAT=ACCEPTED;RSVP=TRUE;CN="Alex Bre
 ton":http://www.breizhbook.com/profile/AlexBreton
END:VEVENT
END:VCALENDAR
