BEGIN:VCALENDAR
PRODID:NingEventWidget-v1
VERSION:2.0
METHOD:PUBLISH
BEGIN:VTIMEZONE
TZID:Europe/Paris
X-LIC-LOCATION:Europe/Paris
BEGIN:DAYLIGHT
TZOFFSETFROM:+0100
TZOFFSETTO:+0200
TZNAME:CEST
DTSTART:19700329T020000
RRULE:FREQ=YEARLY;BYMONTH=3;BYDAY=-1SU
END:DAYLIGHT
BEGIN:STANDARD
TZOFFSETFROM:+0200
TZOFFSETTO:+0100
TZNAME:CET
DTSTART:19701025T030000
RRULE:FREQ=YEARLY;BYMONTH=10;BYDAY=-1SU
END:STANDARD
END:VTIMEZONE
BEGIN:VEVENT
UID:6339722:Event:144682
DTSTAMP:20260423T164041Z
SUMMARY:Publication de 8 nouvelles Galeries de Sculpture sur mon site:
 http://www.strill.fr/
DESCRIPTION:PublicationÂ de 8 nouvelles Galeries de Sculpture sur mon 
 site:http://www.strill.fr/55 Sculpturessculpture bois, sculpture bronz
 e, sculpture pierre, sculpture plÃ¢tre, sculpture mÃ©tal, sculpture rÃ
 ©sine composite, sculpture grillage, sculpture papier, sculpture terre
 , fresques, dÃ©cors, volumesCordialementÂ \nJoÃ«l STRILL Sculpteur\nSc
 ulpture - Fresques - DÃ©cors - Formations - Cours de sculpture ***AgrÃ
 ©ment formation continue sculptureÂ \nÂ \nÂ \n\n\n\n\n\n\nPour en savo
 ir plus, rendez-vous sur http://www.breizhbook.com/events/publication-
 de-8-nouvelles-galeries-de-sculpture-sur-mon-site
DTSTART;TZID=Europe/Paris:20121223T180000
DTEND;TZID=Europe/Paris:20131130T190000
CATEGORIES:publication, de, 8, nouvelles, galeries, sculpture, sur, mo
 n, "site:http://www.strill.fr/"
LOCATION:Atelier de Sculpture de Conleau Vannes 56000 mon site:http://
 www.strill.fr/
WEBSITE:http://www.strill.fr/
URL:http://www.strill.fr/
CONTACT:
ORGANIZER;CN="JoÃ«l STRILL Sculpteur":http://www.breizhbook.com/profil
 e/JoelSTRILLSculpteur
ATTACH;FMTTYPE="image/jpeg":http://storage.ning.com/topology/rest/1.0/
 file/get/3198330772?profile=original
ATTENDEE;ROLE=REQ-PARTICIPANT;PARTSTAT=ACCEPTED;RSVP=TRUE;CN="JoÃ«l ST
 RILL Sculpteur":http://www.breizhbook.com/profile/JoelSTRILLSculpteur
END:VEVENT
END:VCALENDAR
