BEGIN:VCALENDAR
PRODID:NingEventWidget-v1
VERSION:2.0
METHOD:PUBLISH
BEGIN:VTIMEZONE
TZID:Europe/Paris
X-LIC-LOCATION:Europe/Paris
BEGIN:DAYLIGHT
TZOFFSETFROM:+0100
TZOFFSETTO:+0200
TZNAME:CEST
DTSTART:19700329T020000
RRULE:FREQ=YEARLY;BYMONTH=3;BYDAY=-1SU
END:DAYLIGHT
BEGIN:STANDARD
TZOFFSETFROM:+0200
TZOFFSETTO:+0100
TZNAME:CET
DTSTART:19701025T030000
RRULE:FREQ=YEARLY;BYMONTH=10;BYDAY=-1SU
END:STANDARD
END:VTIMEZONE
BEGIN:VEVENT
UID:6339722:Event:127650
DTSTAMP:20260423T183258Z
SUMMARY:projection gratuite THE COVE au cinÃ©ma de Damgan (56)
DESCRIPTION:aprÃ¨s avoir vue ce film vous saurez tout sur les massacre
 s de Dauphins a Taiji (Japon) qui sont en liaisons direct avec laÂ cap
 tivitÃ© des Dauphins .Â \nÂ Â Synopsis et dÃ©tails\nAprÃ¨s s'Ãªtre fai
 t connaÃ®tre dans les annÃ©es 60 par la sÃ©rieÂ Flipper, l'ex-dresseur
  de dauphins Ric O'Barry est aujourd'hui un dÃ©fenseur acharnÃ© des cÃ
 ©tacÃ©s. A Taiji, au Japon, il se mobilise contre le massacre de plusi
 eurs milliers de dauphins par an, perpÃ©trÃ© Ã  l'abri des regards. Av
 ec l'Ã©quipe de l'Oceanic Preservation Society, O'Barry entreprend de 
 rÃ©vÃ©ler la vÃ©ritÃ© sur Taiji au monde entier. MalgrÃ© l'hostilitÃ© 
 de la police locale et des pÃªcheurs, O'Barry et ses complices rÃ©unis
 sent une Ã©quipe de choc : cadreurs et preneurs de sons sous-marins, s
 pÃ©cialistes d'effets spÃ©ciaux, ocÃ©anographes et plongeurs en apnÃ©e
  rÃ©putÃ©s se lancent dans une opÃ©ration secrÃ¨te destinÃ©e Ã  rappor
 ter des images de la petite baie isolÃ©e...\nhttp://www.allocine.fr/vi
 deo/player_gen_cmedia=18918344&cfilm=142774.html\n\n\nPour en savoir p
 lus, rendez-vous sur http://www.breizhbook.com/events/projection-gratu
 ite-the-cove-au-cin-ma-de-damgan-56
DTSTART;TZID=Europe/Paris:20120728T180000
DTEND;TZID=Europe/Paris:20120728T193000
CATEGORIES:cinÃ©ma, gratuit
LOCATION:cinÃ©ma les cardinaux
WEBSITE:http://www.cine-damgan.com/pages/content/the-cove.html
URL:http://www.cine-damgan.com/pages/content/the-cove.html
CONTACT:
ORGANIZER;CN="seb daofin":http://www.breizhbook.com/profile/andaofin
ATTACH;FMTTYPE="image/jpeg":http://storage.ning.com/topology/rest/1.0/
 file/get/3198322139?profile=original
ATTENDEE;ROLE=REQ-PARTICIPANT;PARTSTAT=ACCEPTED;RSVP=TRUE;CN="seb daof
 in":http://www.breizhbook.com/profile/andaofin
END:VEVENT
END:VCALENDAR
