BEGIN:VCALENDAR
PRODID:NingEventWidget-v1
VERSION:2.0
METHOD:PUBLISH
BEGIN:VTIMEZONE
TZID:Europe/Paris
X-LIC-LOCATION:Europe/Paris
BEGIN:DAYLIGHT
TZOFFSETFROM:+0100
TZOFFSETTO:+0200
TZNAME:CEST
DTSTART:19700329T020000
RRULE:FREQ=YEARLY;BYMONTH=3;BYDAY=-1SU
END:DAYLIGHT
BEGIN:STANDARD
TZOFFSETFROM:+0200
TZOFFSETTO:+0100
TZNAME:CET
DTSTART:19701025T030000
RRULE:FREQ=YEARLY;BYMONTH=10;BYDAY=-1SU
END:STANDARD
END:VTIMEZONE
BEGIN:VEVENT
UID:6339722:Event:135038
DTSTAMP:20260423T161040Z
SUMMARY:Prochains stages de Kann-difenn
DESCRIPTION:Discipline bretonne de self-defense basée :\n\nsur le dr
 oit et le devoir de se défendre et l’obligation de porter secours\n
 le respect du Cadre Juridique (CP & CPP)\nl’Utilisation des Moyens d
 e Forces Intermédiaires (U.M.F.I.)\n\nkanndifenn@gmail.com\nParticipa
 tion de 100 € pour l'ensemble du stage (hors repas et hébergement, 
 contacter l'organisateur pour d'éventuelles questions d'hébergement)
 \nhttp://www.agencebretagnepresse.com/fetch.php?id=27347\n\n\n\nPour e
 n savoir plus, rendez-vous sur http://www.breizhbook.com/events/procha
 ins-stages-de-kann-difenn
DTSTART;TZID=Europe/Paris:20121013T000000
DTEND;TZID=Europe/Paris:20121014T235900
CATEGORIES:stage
LOCATION:Salle du Tanin
WEBSITE:
URL:
CONTACT:0614 873 905 & 0609 232 540
ORGANIZER:Sylvie Tardivent
ATTACH;FMTTYPE="image/jpeg":http://storage.ning.com/topology/rest/1.0/
 file/get/3198326473?profile=original
ATTENDEE;ROLE=REQ-PARTICIPANT;PARTSTAT=ACCEPTED;RSVP=TRUE;CN="Yves Mer
 vin":http://www.breizhbook.com/profile/YvesMervin
END:VEVENT
END:VCALENDAR
