BEGIN:VCALENDAR
PRODID:NingEventWidget-v1
VERSION:2.0
METHOD:PUBLISH
BEGIN:VTIMEZONE
TZID:Europe/Paris
X-LIC-LOCATION:Europe/Paris
BEGIN:DAYLIGHT
TZOFFSETFROM:+0100
TZOFFSETTO:+0200
TZNAME:CEST
DTSTART:19700329T020000
RRULE:FREQ=YEARLY;BYMONTH=3;BYDAY=-1SU
END:DAYLIGHT
BEGIN:STANDARD
TZOFFSETFROM:+0200
TZOFFSETTO:+0100
TZNAME:CET
DTSTART:19701025T030000
RRULE:FREQ=YEARLY;BYMONTH=10;BYDAY=-1SU
END:STANDARD
END:VTIMEZONE
BEGIN:VEVENT
UID:6339722:Event:120475
DTSTAMP:20260423T175946Z
SUMMARY:\"Pourquoi le bilinguisme Ã  lâ€™Ã©cole pour nos enfants ?\" a
 vec le professeur Gilbert Dalgalian.
DESCRIPTION:ConfÃ©rence ouverte Ã  tous,organisÃ©e par Div Yezh Bruz,a
 ssociation de Parents dâ€™Ã©lÃ¨ves pour lâ€™enseignement bilingue fran
 Ã§aisâ€“breton Ã  lâ€™Ã©cole publique\n\nMercredi 22 Mai 2012 Ã  20h Ã
   lâ€™Ã©cole Jacques PrÃ©vert Bruz Salle de motricitÃ© de la maternell
 e J. PrÃ©vert 16 avenue Jules Tricault  Â«Les langues, Ã§a ne fonction
 ne pas comme les vases communicants. Les langues ne sont jamais en con
 currence. Plus on apprend et plus cela facilite l'apprentissage de nou
 velles langues. Il y a un effet cumulatif. L'apprentissage d'une langu
 e ne nuit pas Ã  l'apprentissage d'une autre langue, c'est tout le con
 traireÂ» Gilbert Dalgalian  Docteur en linguistique et psycholinguiste
  Gilbert Dalgalian consacre sa vie Ã  l'apprentissage et Ã  l'enseigne
 ment des langues et nous dÃ©montre tout au long de son exposÃ© que tou
 t enfant devenu bilingue acquiert la capacitÃ© d'apprendre d'autres la
 ngues avec aisance et rapiditÃ©.  Parler diffÃ©rentes langues est une 
 richesse, en apprendre plusieurs c'est multiplier ses chances.  Cette 
 confÃ©rence sera Ã©galement l'occasion d'un Ã©change sur les possibili
 tÃ©s qu'offre notre environnement en faveur d'une Ã©ducation pluriling
 ue prÃ©coce.  Venez avec vos questions, vos doutes, vos certitudes sur
  le sujet : Â« Je parle une autre langue que le franÃ§ais, dois-je la 
 parler avec mon enfant ? A quel Ã¢ge doit-on commencer Ã  parler plusi
 eurs langues ? Quels sont les avantages du bilinguisme prÃ©coce ? Etre
  confrontÃ© Ã  plusieurs langues n'entraÃ®ne-t-il pas une confusion ? 
 Que dit l'Ã‰ducation Nationale ? Pourquoi le breton ? Je ne parle pas 
 le breton, est-ce un problÃ¨me pour mon enfant ? Â»  Div Yezh Bruz htt
 p://divyezh.bruz.free.fr contact : divyezh.bruz@free.fr ou au 06617328
 92  ------------------------------------------------------------------
 --------------------------------------------- Une Ã©ducation bilingue 
 franÃ§ais â€“ breton est possible pour nos enfants Ã  lâ€™Ã©cole J. Pr
 Ã©vert Comment peuvent-ils en bÃ©nÃ©ficier ?  4 classes bilingues publ
 iques existent Ã  Bruz de la maternelle Ã  lâ€™Ã©lÃ©mentaire, offrant 
 une pratique quotidienne de 2 langues aux 100 enfants. Peut-Ãªtre une 
 5iÃ¨me classe Ã  la rentrÃ©e ?  Il n'est pas nÃ©cessaire d'habiter la 
 commune de Bruz pour que votre enfant puisse bÃ©nÃ©ficier d'un enseign
 ement bilingue. (dÃ©rogation de la carte scolaire liÃ©e Ã  la spÃ©cifi
 citÃ© de l'enseignement)\n\n\nPour en savoir plus, rendez-vous sur htt
 p://www.breizhbook.com/events/pourquoi-le-bilinguisme-l-cole-pour-nos-
 enfants-avec-le
DTSTART;TZID=Europe/Paris:20120522T200000
DTEND;TZID=Europe/Paris:20120522T220000
CATEGORIES:confÃ©rence
LOCATION:Ã©cole Jacques PrÃ©vert Bruz Salle de motricitÃ© de la matern
 elle J. PrÃ©vert
WEBSITE:http://divyezh.bruz.free.fr
URL:http://divyezh.bruz.free.fr
CONTACT:0661732892
ORGANIZER;CN="Div Yezh Bruz":http://www.breizhbook.com/profile/DivYezh
 Bruz
ATTACH;FMTTYPE="image/jpeg":http://storage.ning.com/topology/rest/1.0/
 file/get/3198318435?profile=original
ATTENDEE;ROLE=REQ-PARTICIPANT;PARTSTAT=ACCEPTED;RSVP=TRUE;CN="Div Yezh
  Bruz":http://www.breizhbook.com/profile/DivYezhBruz
END:VEVENT
END:VCALENDAR
