BEGIN:VCALENDAR
PRODID:NingEventWidget-v1
VERSION:2.0
METHOD:PUBLISH
BEGIN:VTIMEZONE
TZID:Europe/Paris
X-LIC-LOCATION:Europe/Paris
BEGIN:DAYLIGHT
TZOFFSETFROM:+0100
TZOFFSETTO:+0200
TZNAME:CEST
DTSTART:19700329T020000
RRULE:FREQ=YEARLY;BYMONTH=3;BYDAY=-1SU
END:DAYLIGHT
BEGIN:STANDARD
TZOFFSETFROM:+0200
TZOFFSETTO:+0100
TZNAME:CET
DTSTART:19701025T030000
RRULE:FREQ=YEARLY;BYMONTH=10;BYDAY=-1SU
END:STANDARD
END:VTIMEZONE
BEGIN:VEVENT
UID:6339722:Event:115063
DTSTAMP:20260423T182010Z
SUMMARY:portes ouvertes à HENLEE (56800) le 14 avril 2012
DESCRIPTION:Le samedi 14 avril  2012 de 10 à 18 heures, j'ouvre les 
 portes de mon atelier de scrapbooking européen. N'hésitez pas à ven
 ir me rencontrer, découvrir le scrapbooking, un loisir basé sur la p
 hotographie pour réaliser vos albums, faire des présents, préparer 
 votre mariage en réalisant vos faire part, vos marques places ou menu
 . L'entrée est gratuite. Vous y découvrirez aussi le nouveau catalog
 ue AZZA ainsi que les livres et autres matériels en stock.\n\nPour en
  savoir plus, rendez-vous sur http://www.breizhbook.com/events/portes-
 ouvertes-henlee-56800-le-14-avril-2012
DTSTART;TZID=Europe/Paris:20120414T100000
DTEND;TZID=Europe/Paris:20120414T180000
CATEGORIES:portes, ouvertes
LOCATION:HENLEE
WEBSITE:
URL:
CONTACT:
ORGANIZER;CN="NADEGE MASCARTE":http://www.breizhbook.com/profile/NADEG
 EMASCARTE
ATTACH;FMTTYPE="image/jpeg":
ATTENDEE;ROLE=REQ-PARTICIPANT;PARTSTAT=ACCEPTED;RSVP=TRUE;CN="NADEGE M
 ASCARTE":http://www.breizhbook.com/profile/NADEGEMASCARTE
END:VEVENT
END:VCALENDAR
