BEGIN:VCALENDAR
PRODID:NingEventWidget-v1
VERSION:2.0
METHOD:PUBLISH
BEGIN:VTIMEZONE
TZID:Europe/Paris
X-LIC-LOCATION:Europe/Paris
BEGIN:DAYLIGHT
TZOFFSETFROM:+0100
TZOFFSETTO:+0200
TZNAME:CEST
DTSTART:19700329T020000
RRULE:FREQ=YEARLY;BYMONTH=3;BYDAY=-1SU
END:DAYLIGHT
BEGIN:STANDARD
TZOFFSETFROM:+0200
TZOFFSETTO:+0100
TZNAME:CET
DTSTART:19701025T030000
RRULE:FREQ=YEARLY;BYMONTH=10;BYDAY=-1SU
END:STANDARD
END:VTIMEZONE
BEGIN:VEVENT
UID:6339722:Event:214671
DTSTAMP:20260423T183331Z
SUMMARY:PMA, GPA, adoption, la famille en questions
DESCRIPTION:La famille change dans ses configurations et dans ses mode
 s de constitution. A lâ€™aube de lâ€™Ã©laboration dâ€™une loi sur la f
 amille, de nombreuses questions sont soulevÃ©es sur les Â« nouvelles Â
 » familles. Cette confÃ©rence cherche Ã  dÃ©passionner le dÃ©bat pour 
 comprendre ce qui se joue derriÃ¨re les pratiques et techniques actuel
 les pour devenir parent, en termes de droit comme de devoirs.Dominique
  Mehl est sociologue au CNRS. Ses domaines de recherche actuels sont l
 a procrÃ©ation mÃ©dicalement assistÃ©e et la sociologie des mÃ©dias. E
 lle est notamment lâ€™auteur de NaÃ®tre ? La controverse bioÃ©thique (
 Bayard, 1999), de La Bonne Parole (La MartiniÃ¨re, 2003) et dâ€™Enfant
 s du don (Robert Laffont, 2008).Nous essayerons au cours de cette conf
 Ã©rence de mieux comprendre les nouvelles formes familiales (familles 
 recomposÃ©es, adoption, mariage pour tous, homoparentalitÃ©...) et les
  nombreuses questions posÃ©es aux parents dâ€™abord, aux enfants, au l
 Ã©gislateur comme Ã  la sociÃ©tÃ© toute entiÃ¨re.- Quâ€™entend-on au j
 uste par PMA et par GPA ? A ne pas les dÃ©finir, ne risque-t-on pas de
 s amalgames ? Quel sens donner Ã  la filiation, en cas dâ€™adoption ou
  de don de sperme pour des couples stÃ©riles ?- Faut-il lÃ©gifÃ©rer su
 r le droit Ã  la ProcrÃ©ation MÃ©dicalement AssistÃ©e ou laisser lâ€™a
 ccÃ¨s libre Ã  la PMA ? Quâ€™en est-il de la Gestation pour autrui (mÃ
 ¨res porteuses) ? Ne risque-t-on pas une marchandisation du corps ?- Q
 uâ€™est-ce qui est aujourdâ€™hui interdit et autorisÃ© en matiÃ¨re dâ€
 ™adoption et de PMA ? Les lois de bioÃ©thique vont-elles trop loin ou 
 pas assez loin ? Faut-il opposer le droit des parents et le droit des 
 enfants ?- Pourquoi ce dÃ©bat est-il aussi passionnÃ© et controversÃ© 
 ? Comment peut-on analyser les arguments des uns et des autres ? Quâ€™
 en est-il dans les pays voisins ? Les femmes et les hommes ont-ils la 
 mÃªme vision de ces problÃ¨mes ?\n\nPour en savoir plus, rendez-vous s
 ur http://www.breizhbook.com/events/pma-gpa-adoption-la-famille-en-que
 stions
DTSTART;TZID=Europe/Paris:20131125T200000
DTEND;TZID=Europe/Paris:20131125T230000
CATEGORIES:confÃ©rence-dÃ©bat
LOCATION:Salle du Chapeau rouge - Quimper
WEBSITE:http://www.lalibertedelesprit.org/
URL:http://www.lalibertedelesprit.org/
CONTACT:
ORGANIZER:Association \"La libertÃ© de l'esprit\"
ATTACH;FMTTYPE="image/jpeg":http://storage.ning.com/topology/rest/1.0/
 file/get/3198362527?profile=original
ATTENDEE;ROLE=REQ-PARTICIPANT;PARTSTAT=ACCEPTED;RSVP=TRUE;CN="Hervelin
 e Capi":http://www.breizhbook.com/profile/HervelineCapi
END:VEVENT
END:VCALENDAR
