BEGIN:VCALENDAR
PRODID:NingEventWidget-v1
VERSION:2.0
METHOD:PUBLISH
BEGIN:VTIMEZONE
TZID:Europe/Paris
X-LIC-LOCATION:Europe/Paris
BEGIN:DAYLIGHT
TZOFFSETFROM:+0100
TZOFFSETTO:+0200
TZNAME:CEST
DTSTART:19700329T020000
RRULE:FREQ=YEARLY;BYMONTH=3;BYDAY=-1SU
END:DAYLIGHT
BEGIN:STANDARD
TZOFFSETFROM:+0200
TZOFFSETTO:+0100
TZNAME:CET
DTSTART:19701025T030000
RRULE:FREQ=YEARLY;BYMONTH=10;BYDAY=-1SU
END:STANDARD
END:VTIMEZONE
BEGIN:VEVENT
UID:6339722:Event:97916
DTSTAMP:20260423T181330Z
SUMMARY:Pique-nique convivial
DESCRIPTION:L'association de la filière bilingue des écoles publique
 s de Plouay organise un pique-nique participatif, à la chapelle Saint
  Sauveur, au bord de la rivière, chacun amène son pique nique, pas d
 e barbecue (sauf si vous prévoyez de l'emmener !), ambiance convivial
 e, familiale, musiciens, conteurs et autre saltimbanques bienvenus !\n
 \nPour en savoir plus, rendez-vous sur http://www.breizhbook.com/event
 s/pique-nique-convivial
DTSTART;TZID=Europe/Paris:20120624T000000
DTEND;TZID=Europe/Paris:20120624T170000
CATEGORIES:pique-nique
LOCATION:Chapelle Saint Sauveur, Plouay, Morbihan
WEBSITE:http://filiere-bilingue-plouayfr
URL:http://filiere-bilingue-plouayfr
CONTACT:
ORGANIZER;CN="Skol an Amzer da Zont Ploue":http://www.breizhbook.com/p
 rofile/SkolanAmzerdaZontPloue
ATTACH;FMTTYPE="image/jpeg":
ATTENDEE;ROLE=REQ-PARTICIPANT;PARTSTAT=ACCEPTED;RSVP=TRUE;CN="Skol an 
 Amzer da Zont Ploue":http://www.breizhbook.com/profile/SkolanAmzerdaZo
 ntPloue
END:VEVENT
END:VCALENDAR
