BEGIN:VCALENDAR
PRODID:NingEventWidget-v1
VERSION:2.0
METHOD:PUBLISH
BEGIN:VTIMEZONE
TZID:Europe/Paris
X-LIC-LOCATION:Europe/Paris
BEGIN:DAYLIGHT
TZOFFSETFROM:+0100
TZOFFSETTO:+0200
TZNAME:CEST
DTSTART:19700329T020000
RRULE:FREQ=YEARLY;BYMONTH=3;BYDAY=-1SU
END:DAYLIGHT
BEGIN:STANDARD
TZOFFSETFROM:+0200
TZOFFSETTO:+0100
TZNAME:CET
DTSTART:19701025T030000
RRULE:FREQ=YEARLY;BYMONTH=10;BYDAY=-1SU
END:STANDARD
END:VTIMEZONE
BEGIN:VEVENT
UID:6339722:Event:121574
DTSTAMP:20260423T181638Z
SUMMARY:Penn Ar BD c'est aujourd'hui
DESCRIPTION:Petite idée sortie sur Quimper aujourd'hui Pour la grande
  premiere de PennArBD ce dimanche, premiere édition et premier prix d
 e la bande dessinée Bretonne\nPour en savoir plus :http://blogarvro.b
 logspot.fr/2012/05/penn-ar-bd-la-bd-gagne-du-terrain-en.html\n\nPour e
 n savoir plus, rendez-vous sur http://www.breizhbook.com/events/penn-a
 r-bd-c-est-aujourd-hui
DTSTART;TZID=Europe/Paris:20120603T000000
DTEND;TZID=Europe/Paris:20120603T235900
CATEGORIES:festival, bd
LOCATION:Halles de Penvillers, Le Pavillon
WEBSITE:http://blogarvro.blogspot.fr/2012/05/penn-ar-bd-la-bd-gagne-du
 -terrain-en.html
URL:http://blogarvro.blogspot.fr/2012/05/penn-ar-bd-la-bd-gagne-du-ter
 rain-en.html
CONTACT:
ORGANIZER:
ATTACH;FMTTYPE="image/jpeg":
ATTENDEE;ROLE=REQ-PARTICIPANT;PARTSTAT=ACCEPTED;RSVP=TRUE;CN=Billigrad
 io:http://www.breizhbook.com/profile/Billigradio
END:VEVENT
END:VCALENDAR
