BEGIN:VCALENDAR
PRODID:NingEventWidget-v1
VERSION:2.0
METHOD:PUBLISH
BEGIN:VTIMEZONE
TZID:Europe/Paris
X-LIC-LOCATION:Europe/Paris
BEGIN:DAYLIGHT
TZOFFSETFROM:+0100
TZOFFSETTO:+0200
TZNAME:CEST
DTSTART:19700329T020000
RRULE:FREQ=YEARLY;BYMONTH=3;BYDAY=-1SU
END:DAYLIGHT
BEGIN:STANDARD
TZOFFSETFROM:+0200
TZOFFSETTO:+0100
TZNAME:CET
DTSTART:19701025T030000
RRULE:FREQ=YEARLY;BYMONTH=10;BYDAY=-1SU
END:STANDARD
END:VTIMEZONE
BEGIN:VEVENT
UID:6339722:Event:155244
DTSTAMP:20260423T175212Z
SUMMARY:pecheul
DESCRIPTION:FEST NOZ\nTrédaniel (Moncontour)\n9 mars\navec\nTTM 44\nI
 L EST 4 H\nLES CHANTOUS DE LOUDIA\nLES COUINOUS DE NETEE\n20H30 SPECTA
 CLES DES GASTADOURS\n\nPour en savoir plus, rendez-vous sur http://www
 .breizhbook.com/events/pecheul
DTSTART;TZID=Europe/Paris:20130309T203000
DTEND;TZID=Europe/Paris:20130310T020000
CATEGORIES:fest, noz
LOCATION:salle des fetes de Trédaniel
WEBSITE:
URL:
CONTACT:
ORGANIZER:eidar. Gastadours
ATTACH;FMTTYPE="image/jpeg":
ATTENDEE;ROLE=REQ-PARTICIPANT;PARTSTAT=ACCEPTED;RSVP=TRUE;CN=pecheul:h
 ttp://www.breizhbook.com/profile/pecheul
END:VEVENT
END:VCALENDAR
