BEGIN:VCALENDAR
PRODID:NingEventWidget-v1
VERSION:2.0
METHOD:PUBLISH
BEGIN:VTIMEZONE
TZID:Europe/Paris
X-LIC-LOCATION:Europe/Paris
BEGIN:DAYLIGHT
TZOFFSETFROM:+0100
TZOFFSETTO:+0200
TZNAME:CEST
DTSTART:19700329T020000
RRULE:FREQ=YEARLY;BYMONTH=3;BYDAY=-1SU
END:DAYLIGHT
BEGIN:STANDARD
TZOFFSETFROM:+0200
TZOFFSETTO:+0100
TZNAME:CET
DTSTART:19701025T030000
RRULE:FREQ=YEARLY;BYMONTH=10;BYDAY=-1SU
END:STANDARD
END:VTIMEZONE
BEGIN:VEVENT
UID:6339722:Event:157382
DTSTAMP:20260423T181331Z
SUMMARY:Pas de décharge  en Brocéliande
DESCRIPTION:Dites NON à la MEGA DECHARGE\nprojetée par le SMICTOM Ce
 ntre Ouest\nMANIFESTATION, le SAMEDI 02 MARS 2013 à 14H00,\nRendez-vo
 us : place de l’église à CONCORET\npour une marche vers le site de
  Point Clos où se déroulera ensuite à partir de 16H30 : Animations,
  Contes, Balades...Restauration sur place\n\nPour en savoir plus, rend
 ez-vous sur http://www.breizhbook.com/events/pas-de-d-charge-en-broc-l
 iande
DTSTART;TZID=Europe/Paris:20130302T140000
DTEND;TZID=Europe/Paris:20130302T180000
CATEGORIES:manifestation
LOCATION:place de l’église à CONCORET ensuite à partir de 16H30 s
 ite de Point Clos
WEBSITE:http://www.avaaz.org/fr/petition/Pas_Decharge_en_Broceliande/?
 aUakRab
URL:http://www.avaaz.org/fr/petition/Pas_Decharge_en_Broceliande/?aUak
 Rab
CONTACT:
ORGANIZER:
ATTACH;FMTTYPE="image/jpeg":http://storage.ning.com/topology/rest/1.0/
 file/get/3198341563?profile=original
ATTENDEE;ROLE=REQ-PARTICIPANT;PARTSTAT=ACCEPTED;RSVP=TRUE;CN="amat bie
 nvenu":http://www.breizhbook.com/profile/amatbienvenu
END:VEVENT
END:VCALENDAR
