BEGIN:VCALENDAR
PRODID:NingEventWidget-v1
VERSION:2.0
METHOD:PUBLISH
BEGIN:VTIMEZONE
TZID:Europe/Paris
X-LIC-LOCATION:Europe/Paris
BEGIN:DAYLIGHT
TZOFFSETFROM:+0100
TZOFFSETTO:+0200
TZNAME:CEST
DTSTART:19700329T020000
RRULE:FREQ=YEARLY;BYMONTH=3;BYDAY=-1SU
END:DAYLIGHT
BEGIN:STANDARD
TZOFFSETFROM:+0200
TZOFFSETTO:+0100
TZNAME:CET
DTSTART:19701025T030000
RRULE:FREQ=YEARLY;BYMONTH=10;BYDAY=-1SU
END:STANDARD
END:VTIMEZONE
BEGIN:VEVENT
UID:6339722:Event:204126
DTSTAMP:20260423T175259Z
SUMMARY:PARDON SAINT GUENOLE 2013
DESCRIPTION:Cette année encore, le Pardon Saint Guénolé fait bien p
 arti des manifestations majeures estivales de Batz Sur Mer ; à ne rat
 er sous aucun prétexte. Encore plus vivant que jamais, il perpétue l
 a fête bretonne de nos anciens avec l'offrande du sel au cours de la 
 cérémonie religieuse, précédé le matin dès 10H00 par la processi
 on qui se rend de la chapelle du Mûriers à l'église Saint Guénolé
 , Les mariés du jour ont revêtu le costume traditionnel, ainsi que t
 oute la noce, qui défile dans les rues de la ville à l'issue de l'of
 fice religieux vers midi. Un arrêt dans la Grand Rue (lieu à ne pas
  raté pour les photographes) avec un temps fort ; le jet du sel par 
 les mariés au puits, accompagné des différents cercles folkloriques
  invités. Pourquoi s'arrêter en si bon chemin ? Alors venez nous re
 joindre à l'espace du Petit Bois rue de la Plage, pour vous immerger 
 dans notre culture au son de la musique bretonne et goûter aux crêpe
 s et galettes maison autour du bar, ou encore redécouvrir les métier
 s de nos anciens. Et pour finir votre journée, laissez-vous imprégne
 r par la musique celtique irlandaise autour d'une soirée moules frite
 s, dès 19H00, avec Clan D'oiche.\n\nPour en savoir plus, rendez-vous 
 sur http://www.breizhbook.com/events/pardon-saint-guenole-2013
DTSTART;TZID=Europe/Paris:20130804T100000
DTEND;TZID=Europe/Paris:20130804T220000
CATEGORIES:pardon
LOCATION:Espace Petit Bois
WEBSITE:http://assocsaintguenole.e-monsite.com
URL:http://assocsaintguenole.e-monsite.com
CONTACT:0678057894
ORGANIZER;CN="ASSOCIATION SAINT GUENOLE":http://www.breizhbook.com/pro
 file/ASSOCIATIONSAINTGUENOLE
ATTACH;FMTTYPE="image/jpeg":http://storage.ning.com/topology/rest/1.0/
 file/get/3198358808?profile=original
ATTENDEE;ROLE=REQ-PARTICIPANT;PARTSTAT=ACCEPTED;RSVP=TRUE;CN="ASSOCIAT
 ION SAINT GUENOLE":http://www.breizhbook.com/profile/ASSOCIATIONSAINTG
 UENOLE
END:VEVENT
END:VCALENDAR
