BEGIN:VCALENDAR
PRODID:NingEventWidget-v1
VERSION:2.0
METHOD:PUBLISH
BEGIN:VTIMEZONE
TZID:Europe/Paris
X-LIC-LOCATION:Europe/Paris
BEGIN:DAYLIGHT
TZOFFSETFROM:+0100
TZOFFSETTO:+0200
TZNAME:CEST
DTSTART:19700329T020000
RRULE:FREQ=YEARLY;BYMONTH=3;BYDAY=-1SU
END:DAYLIGHT
BEGIN:STANDARD
TZOFFSETFROM:+0200
TZOFFSETTO:+0100
TZNAME:CET
DTSTART:19701025T030000
RRULE:FREQ=YEARLY;BYMONTH=10;BYDAY=-1SU
END:STANDARD
END:VTIMEZONE
BEGIN:VEVENT
UID:6339722:Event:186021
DTSTAMP:20260423T182511Z
SUMMARY:Ouverture d'une nouvelle boutique dédié à la Bretagne
DESCRIPTION:Voici une nouvelle boutique avec des logos dédié à notr
 e Bretagne... QUIquenVEUT ?\nN'hésitez pas à donner votre avis, vos 
 idées...\nMerci.\n\nPour en savoir plus, rendez-vous sur http://www.b
 reizhbook.com/events/ouverture-d-une-nouvelle-boutique-d-di-la-bretagn
 e
DTSTART;TZID=Europe/Paris:20130616T180000
DTEND;TZID=Europe/Paris:20130630T000000
CATEGORIES:ouverture
LOCATION:Les fêtes de la Bretagne à travers le monde entier
WEBSITE:http://757656.spreadshirt.fr/
URL:http://757656.spreadshirt.fr/
CONTACT:
ORGANIZER;CN=Hervé:http://www.breizhbook.com/profile/CHARETON
ATTACH;FMTTYPE="image/jpeg":http://storage.ning.com/topology/rest/1.0/
 file/get/3121693790?profile=original
ATTENDEE;ROLE=REQ-PARTICIPANT;PARTSTAT=ACCEPTED;RSVP=TRUE;CN=Verney:ht
 tp://www.breizhbook.com/profile/Verney
ATTENDEE;ROLE=REQ-PARTICIPANT;PARTSTAT=ACCEPTED;RSVP=TRUE;CN=Hervé:ht
 tp://www.breizhbook.com/profile/CHARETON
END:VEVENT
END:VCALENDAR
