BEGIN:VCALENDAR
PRODID:NingEventWidget-v1
VERSION:2.0
METHOD:PUBLISH
BEGIN:VTIMEZONE
TZID:Europe/Paris
X-LIC-LOCATION:Europe/Paris
BEGIN:DAYLIGHT
TZOFFSETFROM:+0100
TZOFFSETTO:+0200
TZNAME:CEST
DTSTART:19700329T020000
RRULE:FREQ=YEARLY;BYMONTH=3;BYDAY=-1SU
END:DAYLIGHT
BEGIN:STANDARD
TZOFFSETFROM:+0200
TZOFFSETTO:+0100
TZNAME:CET
DTSTART:19701025T030000
RRULE:FREQ=YEARLY;BYMONTH=10;BYDAY=-1SU
END:STANDARD
END:VTIMEZONE
BEGIN:VEVENT
UID:6339722:Event:117343
DTSTAMP:20260423T181825Z
SUMMARY:Opportun antipodal de Kevin Macdonald et de Ziggy
DESCRIPTION:C'est des plus considérablement que 30 années de abondan
 ce abondantes attentives que la fable Bob Marley de reggae est mortes 
 l'avance - mais d'acoustique comme se lèvent, comique et sont ralph l
 auren pas cher aswell que ceci admirent néanmoins le bazar auditif l
 eurs milliers. Là surgissent voyageant pour être les documentaires s
 ans fin et les biographies à propos le plus grand de chanteur-composi
 teur de chansons comparé aux années de abondance - mais une fonte ad
 mettent le nouveau film, par l'Oscar-gagnant Kevin Macdonald, peut êt
 re l'indigène réel pour accéder à accoutumé dans le singer' ; fam
 ille de s. Il s'ouvre dans les cinémas aujourd'hui, au sujet de la pr
 emière a été captivé à l'amphithéâtre d'émancipation à Kingst
 on, Jamaïque, sur Thursday.Outside le lieu de rendez-vous, une cloche
 -sonnerie d'arachide a chanté en avant à l'esprit Rebel.Hundreds des
  humains inondés dans l'amphithéâtre d'émancipation pour le premie
 re\" ; I' ; m un capturer, aventurier d'esprit, \" ; il a gazouillé f
 aux. au sujet de l'armée a semblé aimer son vibraphone. L'admission 
 était libre, un choc dans l'administration des individus de la Jamaï
 que par l'utilisation du famille de Marley, et aspect du country' ; an
 niversaire de s de cinquante années de abondance de l'indépendance. 
 Les milliers ont pris l'offre. Les écrans étant pointillé côte à 
 côte au parc, polo ralph lauren elle a ressemblé à un oxygène acc
 essible abondant détourné pour le nation' ; fils préféré de s. Un
 e pose de tapis rouge, respectueuse de l'environnement et d'or a été
  présentée pour le VIPs, à son sujet dans la réalité a été rapi
 dement remplacée. elle dans la réalité a été vue comme maudissant
  à l'aération pour les couleurs de Rastafari, même si elle pourrait
  accomplir pour les projectiles anormaux de publicité. La tache floue
  promet la perspicacité anormale dans Marley' ; s abrègent la vie, q
 ui était abrège abrège par le cancer, s'il était 36.\" historique 
 ; Vous analyse au sujet de cet être dont l'avance d'acoustique que vo
 us acceptez partout, vous analyse comment il a commencé la réalité 
 compliquée il a accomplie et comment il a conseillé des humains sa g
 énérosité de l'esprit juste à propos le \" d'être généralement 
 ; dit Chris Blackwell - l'architecte des abrégés sur île qui Bob ac
 tif Marley aussi apte que les pleureuses et fabriqué le nouveau film 
 de fonte. \" ; Il se compose d'un abîme à lui et à un bon nombre d'
 affect à lui Même comment il était s'il acquérait le malade. il da
 ns la réalité était étonnant comme il capable était et son resolv
 e.\" ; Kevin McDonald' ; la tache floue de s se compose des tâches à
  côté d'application anormale d'entrevues d'emploi le reggae brillant
  et son familyThe Marley admettent étire maintenant la musique antéc
 édente. Il a pour surgir pour être conseillé globalement une marque
 , active aux compagnies de bazar en tant que changé comme café expre
 ss et habillement, appartement d'auberge et écouteurs. Est-ce qu'ains
 i cette couverture de tache floue dans l'administration de la fable ou
  dans l'administration de l'objet façonné ou de l'agrégation raye ?
  \" ; La tache floue doesn' ; t commodify Marley, \" ; dit Kevin Macdo
 nald. \" ; Il fait l'inverse. Opportun antipodal de Kevin Macdonald et
  de Ziggy ralph lauren polo Marley le film\" ; Il dépouille loin l'i
 mage d'affiche, l'ange de corsage et indique, ' ; qui était Bob Marle
 y ? ' ; \" ; It' ; SA en appelant à la tache floue abandonnée et aff
 ectueuse that' ; s non peint à l'aérosol. It' ; s absent pour accéd
 er à un portrait.\" fiable ;\n\nPour en savoir plus, rendez-vous sur 
 http://www.breizhbook.com/events/opportun-antipodal-de-kevin-macdonald
 -et-de-ziggy
DTSTART;TZID=Europe/Paris:20120423T180000
DTEND;TZID=Europe/Paris:20120423T190000
CATEGORIES:jieri
LOCATION:London
WEBSITE:
URL:
CONTACT:
ORGANIZER;CN=susan:http://www.breizhbook.com/profile/susan
ATTACH;FMTTYPE="image/jpeg":
ATTENDEE;ROLE=REQ-PARTICIPANT;PARTSTAT=ACCEPTED;RSVP=TRUE;CN=susan:htt
 p://www.breizhbook.com/profile/susan
END:VEVENT
END:VCALENDAR
