BEGIN:VCALENDAR
PRODID:NingEventWidget-v1
VERSION:2.0
METHOD:PUBLISH
BEGIN:VTIMEZONE
TZID:Europe/Paris
X-LIC-LOCATION:Europe/Paris
BEGIN:DAYLIGHT
TZOFFSETFROM:+0100
TZOFFSETTO:+0200
TZNAME:CEST
DTSTART:19700329T020000
RRULE:FREQ=YEARLY;BYMONTH=3;BYDAY=-1SU
END:DAYLIGHT
BEGIN:STANDARD
TZOFFSETFROM:+0200
TZOFFSETTO:+0100
TZNAME:CET
DTSTART:19701025T030000
RRULE:FREQ=YEARLY;BYMONTH=10;BYDAY=-1SU
END:STANDARD
END:VTIMEZONE
BEGIN:VEVENT
UID:6339722:Event:120766
DTSTAMP:20260423T181825Z
SUMMARY:oiseaux des amours, de merveilles lÃ©gÃ¨res
DESCRIPTION:La chanson dÃ©cide de se fiancer au conte... puisqu'en eff
 et Jean-Pierre Mathias sera associÃ© au duo Paire & Grin' (Julie Simon
  et Emmanuelle Bouthillier, connues Ã©galement sous l'intitulÃ© Rock's
 ignol) : spectacle inÃ©dit alliant le conte et le chant traditionnel a
 utour du thÃ¨me des oiseaux et du mariage ! Dans le cadre des \"Je(u)d
 is des contes au BoÃ«l\"... RDV de contes et merveilles en Pays de Ren
 nes - Vallons de Vilaine.  Informations, rÃ©servations + - goÃ»ter crÃ
 ªpe-cidre, et/ou repas au restaurant \"Le Marin BoÃ«l\" : Julia & Cyri
 l, restaurant \"Le Marin Boel\", Le BoÃ«l, 35580 Pont-RÃ©an en GUICHEN
  : 02.99.42.25.69 http://www.marin-boel-pont-rean.com/  Ã  proximitÃ© 
 du restaurant \"Le Marin BoÃ«l\" , en Guichen (Pont-RÃ©an). En cas de 
 mauvais temps, pas de souci !... nous nous installerons soit sous les 
 parasols-parapluies en terrasse, ou dans la petite salle Ã  l'Ã©tage, 
 ou bien encore au bar... selon le nombre et la tempÃ©rature ! Si des p
 ersonnes veulent aussi dÃ®ner, c'est \"avant\" les contes !\n\nPour en
  savoir plus, rendez-vous sur http://www.breizhbook.com/events/oiseaux
 -des-amours-de-merveilles-l-g-res
DTSTART;TZID=Europe/Paris:20120628T203000
DTEND;TZID=Europe/Paris:20120628T220000
CATEGORIES:conte
LOCATION:Le Marin Boel
WEBSITE:http://www.contes-et-merveilles.com/
URL:http://www.contes-et-merveilles.com/
CONTACT:02.99.42.25.69
ORGANIZER;CN=MATHIAS:http://www.breizhbook.com/profile/MATHIAS
ATTACH;FMTTYPE="image/jpeg":
ATTENDEE;ROLE=REQ-PARTICIPANT;PARTSTAT=ACCEPTED;RSVP=TRUE;CN=MATHIAS:h
 ttp://www.breizhbook.com/profile/MATHIAS
END:VEVENT
END:VCALENDAR
