BEGIN:VCALENDAR
PRODID:NingEventWidget-v1
VERSION:2.0
METHOD:PUBLISH
BEGIN:VTIMEZONE
TZID:Europe/Paris
X-LIC-LOCATION:Europe/Paris
BEGIN:DAYLIGHT
TZOFFSETFROM:+0100
TZOFFSETTO:+0200
TZNAME:CEST
DTSTART:19700329T020000
RRULE:FREQ=YEARLY;BYMONTH=3;BYDAY=-1SU
END:DAYLIGHT
BEGIN:STANDARD
TZOFFSETFROM:+0200
TZOFFSETTO:+0100
TZNAME:CET
DTSTART:19701025T030000
RRULE:FREQ=YEARLY;BYMONTH=10;BYDAY=-1SU
END:STANDARD
END:VTIMEZONE
BEGIN:VEVENT
UID:6339722:Event:188838
DTSTAMP:20260423T181837Z
SUMMARY:Nuit des étoiles - 10/08/2013 - Muel (35)
DESCRIPTION:Philomène Astronomie organise la Nuit des Etoiles à Muë
 l sur le terrain et salle des sports à partir de 21h.   Cette soirée
  permettra aux passionnés comme aux simples curieux d'observer notre 
 ciel de nuit et d'en percer les secrets. Du simple repérage des const
 ellations à la recherche de galaxies lointaines, l'astronomie ouvre s
 es portes sur la compréhension de notre univers et de notre planète.
    Au programme :  Exposition : astronomie de A à Z ; A la découvert
 e de l'Univers Stand Uranie (librairie et objets astronomiques) ; Proj
 ection vidéos ; Projection d'étoiles dans la salle (Star Theatre).  
 Observation sur une gamme de télescopes, Orientation par les étoiles
 , découvertes des constellations.   Entrée gratuite. A partir de 21h
 .  Prévoir vêtements chauds et lampes de poche  Email : philomeneast
 ro@free.fr Site internet : http://philomeneastro.wix.com/accueil  Tel 
 02 23 43 10 06 ou 06 15 88 60 04\n\n\n\nPour en savoir plus, rendez-vo
 us sur http://www.breizhbook.com/events/nuit-des-toiles-10-08-2013-mue
 l-35
DTSTART;TZID=Europe/Paris:20130810T230000
DTEND;TZID=Europe/Paris:20130811T020000
CATEGORIES:soirée, "d'astronomie"
LOCATION:Terrain et salle de sports
WEBSITE:http://maps.google.com/maps?q=Muel,+France&hl=fr&ll=48.127916,
 -2.157097&spn=0.011558,0.033023&sll=37.0625,-95.677068&sspn=55.455479,
 135.263672&oq=muel&t=h&hnear=Muel,+Ille-et-Vilaine,+Bretagne,+France&z
 =16
URL:http://maps.google.com/maps?q=Muel,+France&hl=fr&ll=48.127916,-2.1
 57097&spn=0.011558,0.033023&sll=37.0625,-95.677068&sspn=55.455479,135.
 263672&oq=muel&t=h&hnear=Muel,+Ille-et-Vilaine,+Bretagne,+France&z=16
CONTACT:
ORGANIZER;CN=LILY:http://www.breizhbook.com/profile/BRENUGAT
ATTACH;FMTTYPE="image/jpeg":http://storage.ning.com/topology/rest/1.0/
 file/get/3198357492?profile=original
ATTENDEE;ROLE=REQ-PARTICIPANT;PARTSTAT=ACCEPTED;RSVP=TRUE;CN=LILY:http
 ://www.breizhbook.com/profile/BRENUGAT
END:VEVENT
END:VCALENDAR
