BEGIN:VCALENDAR
PRODID:NingEventWidget-v1
VERSION:2.0
METHOD:PUBLISH
BEGIN:VTIMEZONE
TZID:Europe/Paris
X-LIC-LOCATION:Europe/Paris
BEGIN:DAYLIGHT
TZOFFSETFROM:+0100
TZOFFSETTO:+0200
TZNAME:CEST
DTSTART:19700329T020000
RRULE:FREQ=YEARLY;BYMONTH=3;BYDAY=-1SU
END:DAYLIGHT
BEGIN:STANDARD
TZOFFSETFROM:+0200
TZOFFSETTO:+0100
TZNAME:CET
DTSTART:19701025T030000
RRULE:FREQ=YEARLY;BYMONTH=10;BYDAY=-1SU
END:STANDARD
END:VTIMEZONE
BEGIN:VEVENT
UID:6339722:Event:178606
DTSTAMP:20260423T175423Z
SUMMARY:Nuit des musées à l'écomusée des Monts d'Arrée
DESCRIPTION:Ce soir l'écomusée ouvre ses portes pour la première fo
 is lors de la Nuit des Musées. \n\n\nPour en savoir plus, rendez-vou
 s sur http://www.breizhbook.com/events/nuit-des-mus-es-l-comus-e-des-m
 onts-d-arr-e
DTSTART;TZID=Europe/Paris:20130518T190000
DTEND;TZID=Europe/Paris:20130518T230000
CATEGORIES:nuit, des, musées
LOCATION:écomusée des monts d'arrée hameau de kerouat à Commana et
  Saint Rivoal
WEBSITE:http://ecomusee-monts-arree.fr/
URL:http://ecomusee-monts-arree.fr/
CONTACT:02 98 68 87 76
ORGANIZER;CN="Ecomusée des monts d'arrée":http://www.breizhbook.com/
 profile/Ecomuseedesmontsdarree
ATTACH;FMTTYPE="image/jpeg":
ATTENDEE;ROLE=REQ-PARTICIPANT;PARTSTAT=ACCEPTED;RSVP=TRUE;CN="Ecomusé
 e des monts d'arrée":http://www.breizhbook.com/profile/Ecomuseedesmon
 tsdarree
END:VEVENT
END:VCALENDAR
