BEGIN:VCALENDAR
PRODID:NingEventWidget-v1
VERSION:2.0
METHOD:PUBLISH
BEGIN:VTIMEZONE
TZID:Europe/Paris
X-LIC-LOCATION:Europe/Paris
BEGIN:DAYLIGHT
TZOFFSETFROM:+0100
TZOFFSETTO:+0200
TZNAME:CEST
DTSTART:19700329T020000
RRULE:FREQ=YEARLY;BYMONTH=3;BYDAY=-1SU
END:DAYLIGHT
BEGIN:STANDARD
TZOFFSETFROM:+0200
TZOFFSETTO:+0100
TZNAME:CET
DTSTART:19701025T030000
RRULE:FREQ=YEARLY;BYMONTH=10;BYDAY=-1SU
END:STANDARD
END:VTIMEZONE
BEGIN:VEVENT
UID:6339722:Event:127242
DTSTAMP:20260423T181954Z
SUMMARY:Nuit des Etoiles, Muel (35) - 28 juillet 2012
DESCRIPTION:Le club PhilomÃ¨ne Astronomie organise la Nuit des Etoiles
  Ã  MuÃ«l sur le terrain des sports Ã  partir de 21h. Cette soirÃ©e pe
 rmettra aux passionnÃ©s comme aux simples curieux d'observer notre cie
 l de nuit et d'en percer les secrets. Du simple repÃ©rage des constell
 ations Ã  la recherche de galaxies lointaines, l'astronomie ouvre ses 
 portes sur la comprÃ©hension de notre univers et de notre planÃ¨te.\nA
 u programme : PlanÃ©tarium du Castel-Astro ; Exposition : astronomie d
 e A Ã  Z ; Stand Uranie (librairie et objets astronomiques) ; ActivitÃ
 ©s pour les enfants (coloriages, dÃ©coupages) ; Projection vidÃ©os ; P
 ojection d'Ã©toiles dans la salle (Star Theatre).\nObservation sur une
  gamme complÃ¨te de tÃ©lescopes, orientation par les Ã©toiles, dÃ©couv
 ertes des constellations.\nEntrÃ©e gratuite. A partir de 21h.\nBillete
 rie pour le planÃ©tarium : 1,5 euros / personne, 1 euro / personne pou
 r un groupe de 5 personnes, gratuit pour les moins de 6 ans.\n\nPour e
 n savoir plus, rendez-vous sur http://www.breizhbook.com/events/nuit-d
 es-etoiles-muel-35-28-juillet-2012
DTSTART;TZID=Europe/Paris:20120728T210000
DTEND;TZID=Europe/Paris:20120729T020000
CATEGORIES:soirÃ©e, "d'observation", astronomique
LOCATION:Terrain et Salle de Sports
WEBSITE:https://www.facebook.com/philomene.astronomie
URL:https://www.facebook.com/philomene.astronomie
CONTACT:
ORGANIZER;CN=LILY:http://www.breizhbook.com/profile/BRENUGAT
ATTACH;FMTTYPE="image/jpeg":http://storage.ning.com/topology/rest/1.0/
 file/get/3198321120?profile=original
ATTENDEE;ROLE=REQ-PARTICIPANT;PARTSTAT=ACCEPTED;RSVP=TRUE;CN=LILY:http
 ://www.breizhbook.com/profile/BRENUGAT
END:VEVENT
END:VCALENDAR
