BEGIN:VCALENDAR
PRODID:NingEventWidget-v1
VERSION:2.0
METHOD:PUBLISH
BEGIN:VTIMEZONE
TZID:Europe/Paris
X-LIC-LOCATION:Europe/Paris
BEGIN:DAYLIGHT
TZOFFSETFROM:+0100
TZOFFSETTO:+0200
TZNAME:CEST
DTSTART:19700329T020000
RRULE:FREQ=YEARLY;BYMONTH=3;BYDAY=-1SU
END:DAYLIGHT
BEGIN:STANDARD
TZOFFSETFROM:+0200
TZOFFSETTO:+0100
TZNAME:CET
DTSTART:19701025T030000
RRULE:FREQ=YEARLY;BYMONTH=10;BYDAY=-1SU
END:STANDARD
END:VTIMEZONE
BEGIN:VEVENT
UID:6339722:Event:113037
DTSTAMP:20260423T181325Z
SUMMARY:Nicolas LE RALLIC
DESCRIPTION:  Spectacle Nicolas LE RALLIC : \"Ile\"\n\nPour en savoir
  plus, rendez-vous sur http://www.breizhbook.com/events/nicolas-le-ral
 lic
DTSTART;TZID=Europe/Paris:20120413T210000
DTEND;TZID=Europe/Paris:20120413T230000
CATEGORIES:spectacle
LOCATION:Bar \"la Barricade\"
WEBSITE:http://alainevano@gmail.com
URL:http://alainevano@gmail.com
CONTACT:06-31-74-08-60
ORGANIZER:LA BARRICADE
ATTACH;FMTTYPE="image/jpeg":
ATTENDEE;ROLE=REQ-PARTICIPANT;PARTSTAT=ACCEPTED;RSVP=TRUE;CN="Nicolas 
 LE RALLIC":http://www.breizhbook.com/profile/LERALLIC
END:VEVENT
END:VCALENDAR
