BEGIN:VCALENDAR
PRODID:NingEventWidget-v1
VERSION:2.0
METHOD:PUBLISH
BEGIN:VTIMEZONE
TZID:Europe/Paris
X-LIC-LOCATION:Europe/Paris
BEGIN:DAYLIGHT
TZOFFSETFROM:+0100
TZOFFSETTO:+0200
TZNAME:CEST
DTSTART:19700329T020000
RRULE:FREQ=YEARLY;BYMONTH=3;BYDAY=-1SU
END:DAYLIGHT
BEGIN:STANDARD
TZOFFSETFROM:+0200
TZOFFSETTO:+0100
TZNAME:CET
DTSTART:19701025T030000
RRULE:FREQ=YEARLY;BYMONTH=10;BYDAY=-1SU
END:STANDARD
END:VTIMEZONE
BEGIN:VEVENT
UID:6339722:Event:168388
DTSTAMP:20260423T192603Z
SUMMARY:new york
DESCRIPTION:http://youtu.be/d5vHfkMJKOI\n\nPour en savoir plus, rendez
 -vous sur http://www.breizhbook.com/events/new-york
DTSTART;TZID=Europe/Paris:20130323T180000
DTEND;TZID=Europe/Paris:20130323T190000
CATEGORIES:"m&m's"
LOCATION:new york
WEBSITE:
URL:
CONTACT:
ORGANIZER;CN="rantier jerome":http://www.breizhbook.com/profile/rantie
 rjerome
ATTACH;FMTTYPE="image/jpeg":
ATTENDEE;ROLE=REQ-PARTICIPANT;PARTSTAT=ACCEPTED;RSVP=TRUE;CN="rantier 
 jerome":http://www.breizhbook.com/profile/rantierjerome
END:VEVENT
END:VCALENDAR
