BEGIN:VCALENDAR
PRODID:NingEventWidget-v1
VERSION:2.0
METHOD:PUBLISH
BEGIN:VTIMEZONE
TZID:Europe/Paris
X-LIC-LOCATION:Europe/Paris
BEGIN:DAYLIGHT
TZOFFSETFROM:+0100
TZOFFSETTO:+0200
TZNAME:CEST
DTSTART:19700329T020000
RRULE:FREQ=YEARLY;BYMONTH=3;BYDAY=-1SU
END:DAYLIGHT
BEGIN:STANDARD
TZOFFSETFROM:+0200
TZOFFSETTO:+0100
TZNAME:CET
DTSTART:19701025T030000
RRULE:FREQ=YEARLY;BYMONTH=10;BYDAY=-1SU
END:STANDARD
END:VTIMEZONE
BEGIN:VEVENT
UID:6339722:Event:168241
DTSTAMP:20260423T164427Z
SUMMARY:Mont Saint-Michel : balades contÃ©es en Baie des lÃ©gendes
DESCRIPTION:Outre les contes populaires et autres mythologies locales 
 que Jean-Pierre Mathias distille pour la 5Ã¨me annÃ©e au fil des dÃ©am
 bulations de rÃªve entre mer-terre et ciel... Ces promenades sont acco
 mpagnÃ©es par un/e guide professionnel/le indÃ©pendant/e et titulaire 
 de lâ€™attestation de sÃ©curitÃ© prÃ©fectorale, familier et passionnÃ©
  des eaux, sables... histoire de ne rien perdre (ni personne !) des ri
 chesses de l'aventure en ces vastes espaces du \"bord du monde\"...Pas
  moins de 12 sorties sont ainsi programmÃ©es en Baie du Mont Saint-Mic
 hel, du printemps (20 avril) Ã  l'automne (28 septembre), certaines no
 cturnes, d'autres en rdv avec le mascaret...ThÃ¨mes abordÃ©s et rÃ©cit
 s transmis lors de nombreuses pauses : la Baie, marÃ©es, sables mouvan
 ts, traversÃ©e des fleuves, sÃ©dimentation, faune et flore, anciens mÃ
 ©tiers, faits historiques, oiseaux, migrations, poissons, et autres an
 imaux marins, \"les rats et le rÃ©tablissement du caractÃ¨re maritime\
 " !... Comment la famille de Gargantua implanta \"la bernique gÃ©ante\
 " entre Normands et Bretons, Comment les archanges MikaÃ«l et Lucifer 
 en firent l'une des 7 merveilles du monde, mÃ©galithes, Aubert et le f
 ils de Bain, druidesses et cheval au galop, ...Conditions : 18 â‚¬ par
  personne (gratuitÃ© /enfants de moins de 8 ans). Pour un groupe, jusq
 u'Ã  60 personnes, il est possible de choisir une autre date et bÃ©nÃ©
 ficier d'un \"tarif amÃ©nagÃ©\".Tous dÃ©tails sur le flyer en piÃ¨ce j
 ointe, et sur l'agenda du conteur professionnel de haute Bretagne : ht
 tp://www.contes-et-merveilles.com/agenda.php\n\nPour en savoir plus, r
 endez-vous sur http://www.breizhbook.com/events/mont-saint-michel-bala
 des-cont-es-en-baie-des-l-gendes
DTSTART;TZID=Europe/Paris:20130420T220000
DTEND;TZID=Europe/Paris:20130928T073000
CATEGORIES:randonnÃ©e, nature, et, contes
LOCATION:en baie
WEBSITE:http://www.contes-et-merveilles.com/agenda.php
URL:http://www.contes-et-merveilles.com/agenda.php
CONTACT:0299428939
ORGANIZER;CN=MATHIAS:http://www.breizhbook.com/profile/MATHIAS
ATTACH;FMTTYPE="image/jpeg":http://storage.ning.com/topology/rest/1.0/
 file/get/3198350178?profile=original
ATTENDEE;ROLE=REQ-PARTICIPANT;PARTSTAT=ACCEPTED;RSVP=TRUE;CN=MATHIAS:h
 ttp://www.breizhbook.com/profile/MATHIAS
END:VEVENT
END:VCALENDAR
