BEGIN:VCALENDAR
PRODID:NingEventWidget-v1
VERSION:2.0
METHOD:PUBLISH
BEGIN:VTIMEZONE
TZID:Europe/Paris
X-LIC-LOCATION:Europe/Paris
BEGIN:DAYLIGHT
TZOFFSETFROM:+0100
TZOFFSETTO:+0200
TZNAME:CEST
DTSTART:19700329T020000
RRULE:FREQ=YEARLY;BYMONTH=3;BYDAY=-1SU
END:DAYLIGHT
BEGIN:STANDARD
TZOFFSETFROM:+0200
TZOFFSETTO:+0100
TZNAME:CET
DTSTART:19701025T030000
RRULE:FREQ=YEARLY;BYMONTH=10;BYDAY=-1SU
END:STANDARD
END:VTIMEZONE
BEGIN:VEVENT
UID:6339722:Event:130021
DTSTAMP:20260423T182039Z
SUMMARY:Missional leaders understand that the mission is bigger than t
 hem
DESCRIPTION:Missional leaders understand that the mission is bigger th
 an them and that they will need hundreds and michael kors baguette-bez
 elÂ Michael Kors CrossbodyÂ watch rose gold thousands of other leaders
  to achieve God's missional goals. They make it their business to alwa
 ys be on the search for emerging leaders, with the eye of an eagle the
 y look for those who possess the raw leadership skills. My friend, Tom
  Nebel, likes to say that he is not a recruiter but just a spotter alw
 ays looking for potential in those around him. They are leaders who ne
 ver do anything alone. They always have some one along observing becau
 se they understand the power of the informal equipping process and tha
 t more is caught than taught in leadership settings. They understand t
 hat everything the church does revolves around one aim \"make disciple
 s\". If a church is good at making disciples it will be good at making
  leaders because in the end, knock off michael kors watches a good spi
 ritual formation plan will lead to an accelerated spiritual multiplica
 tion. Missional leaders are always evaluating and tweaking the spiritu
 al formation process or system to see if they are hitting their mark.Â
  \nThen in the mid 1980s, Jackson was diagnosed with vitiligo and lupu
 s, the latter was in remission in Jackson's case, and both illnesses m
 ade him sensitive to sunlight. The treatments he used for his conditio
 n further lightened his skin color and with the application of pancake
  makeup to even out blotches, he michael michael kors handbags could a
 ppear very pale.\nThe Agency for Healthcare Research and Quality (AHRQ
 ) encourages patients to prevent medical errors by asking questions. I
 n fact, it has produced several TV spots urging patients to michael ko
 rs handbags on sale \"take charge of their health\" and ask questions 
 just like they would ask questions about the food they order in a rest
 aurant. The AHRQ recommends the following 10 questions: What is the te
 st for? How many times have you done this? When will I get the results
 ? Why do I need this surgery? Are there any alternatives to surgery? W
 hat are the possible complications? Which hospital is best for my need
 s? How do you spell the name of that drug? Are there any side effects?
  Will this medicine interact with medicines that I'm alreadyÂ www.mich
 aelkorsa.comÂ taking?\n\nPour en savoir plus, rendez-vous sur http://w
 ww.breizhbook.com/events/missional-leaders-understand-that-the-mission
 -is-bigger-than-them
DTSTART;TZID=Europe/Paris:20120818T180000
DTEND;TZID=Europe/Paris:20120818T190000
CATEGORIES:birthday, party
LOCATION:é˜¿å°”å·´å°¼äºš
WEBSITE:
URL:
CONTACT:
ORGANIZER;CN="willis surrey charles":http://www.breizhbook.com/profile
 /willissurreycharles
ATTACH;FMTTYPE="image/jpeg":
ATTENDEE;ROLE=REQ-PARTICIPANT;PARTSTAT=ACCEPTED;RSVP=TRUE;CN="willis s
 urrey charles":http://www.breizhbook.com/profile/willissurreycharles
END:VEVENT
END:VCALENDAR
