BEGIN:VCALENDAR
PRODID:NingEventWidget-v1
VERSION:2.0
METHOD:PUBLISH
BEGIN:VTIMEZONE
TZID:Europe/Paris
X-LIC-LOCATION:Europe/Paris
BEGIN:DAYLIGHT
TZOFFSETFROM:+0100
TZOFFSETTO:+0200
TZNAME:CEST
DTSTART:19700329T020000
RRULE:FREQ=YEARLY;BYMONTH=3;BYDAY=-1SU
END:DAYLIGHT
BEGIN:STANDARD
TZOFFSETFROM:+0200
TZOFFSETTO:+0100
TZNAME:CET
DTSTART:19701025T030000
RRULE:FREQ=YEARLY;BYMONTH=10;BYDAY=-1SU
END:STANDARD
END:VTIMEZONE
BEGIN:VEVENT
UID:6339722:Event:213030
DTSTAMP:20260423T164547Z
SUMMARY:Mise en Ligne d' un nouveau Blog:  http://strill.fr/blog/
DESCRIPTION:Mise en Ligne d' un nouveau Blog:  http://strill.fr/blog/
 \nSculpteur Joël STRILL, Sculpture et Formation Continue en Sculpture
  en Bretagne sud\n\nPour en savoir plus, rendez-vous sur http://www.br
 eizhbook.com/events/mise-en-ligne-d-un-nouveau-blog-http-strill-fr-blo
 g
DTSTART;TZID=Europe/Paris:20131030T220000
DTEND;TZID=Europe/Paris:20140930T230000
CATEGORIES:mise, en, ligne, "d'", un, nouveau, "blog:", "http://strill
 .fr/blog/"
LOCATION:http://strill.fr/blog/
WEBSITE:http://strill.fr/blog/
URL:http://strill.fr/blog/
CONTACT:
ORGANIZER;CN="Joël STRILL Sculpteur":http://www.breizhbook.com/profil
 e/JoelSTRILLSculpteur
ATTACH;FMTTYPE="image/jpeg":http://storage.ning.com/topology/rest/1.0/
 file/get/3198330772?profile=original
ATTENDEE;ROLE=REQ-PARTICIPANT;PARTSTAT=ACCEPTED;RSVP=TRUE;CN="Joël ST
 RILL Sculpteur":http://www.breizhbook.com/profile/JoelSTRILLSculpteur
END:VEVENT
END:VCALENDAR
