BEGIN:VCALENDAR
PRODID:NingEventWidget-v1
VERSION:2.0
METHOD:PUBLISH
BEGIN:VTIMEZONE
TZID:Europe/Paris
X-LIC-LOCATION:Europe/Paris
BEGIN:DAYLIGHT
TZOFFSETFROM:+0100
TZOFFSETTO:+0200
TZNAME:CEST
DTSTART:19700329T020000
RRULE:FREQ=YEARLY;BYMONTH=3;BYDAY=-1SU
END:DAYLIGHT
BEGIN:STANDARD
TZOFFSETFROM:+0200
TZOFFSETTO:+0100
TZNAME:CET
DTSTART:19701025T030000
RRULE:FREQ=YEARLY;BYMONTH=10;BYDAY=-1SU
END:STANDARD
END:VTIMEZONE
BEGIN:VEVENT
UID:6339722:Event:143821
DTSTAMP:20260423T181837Z
SUMMARY:michael kors outlets to sit.The staff member
DESCRIPTION:michael kors outlets to sit.The staff member also thinks t
 hat so many people all sat this chair, also all right, make him sit fo
 r a while.Unexpectedly, fatty to hand over chair ascend on sitting, th
 e chair Pa Ca Ca falls flat ground.I estimate this fatty to have heavy
  more than 300 cattieses.The fatty sits on the ground and regrets very
  much.The first reaction is that he would like to compensate.By this t
 ime, the persons of museum all rush out to hand him and say:\"This mat
 ter son cans not depend on you, either, this chairs all 400 many year 
 old, have never thought to finally ruin are here at you.\"Later on, Am
 erican clear that inside the Si museum appointed a lot of experts to t
 his hand over a chair consultation, re- repair.Thoroughly after the re
 pair, re- exhibit, but again disallow a person to sit.0Su east ascent 
 with hand over chair 0In fact, someone sat to once fall to hand over c
 hair on Chinese history, this person is well-known Su east ascent.Sung
  generation famous poet, Yang Wan Li, the most well-known poem is \"th
 e little lotus just exposes a sharp point michael kors outlet Cape, ea
 rly have dragonfly to sign above\".He has in 0truly Zhai poem words 0 
 such a jot down:Su east the ascent contain the town river of Jiangsu t
 hat michael kors jet set tote once lead smooth state, is now, the pare
 nts officer of smooth state a hear that the big eminent writer came an
 d certainly needed to hold the party to invite.Holding the party to in
 vite at that time and having some cheap nike shoes online son today is
  different, specially solemn and impressive at that time, there is per
 formance, be like our Chinese New Year evening parties, the guests wer
 e all michael michael kors very happy.The time that finally is over ac
 cording to practice wants to sing a song.This song is 0tea 0 phrase th
 at Huang Ting Jian writes, say in the phrase:\"However have one cup sp
 ring grass, the solution lingers a good guest.\"What mean?Be michael k
 ors hamilton christmas say:However there is this cup tea, know the moo
 d that we linger a guest.The spring grass is tea.Finish singing this s
 ong wholesale nike shoes even if is over, had a little son to be like 
 us on singing 0is difficult to forget tonight 0 today, everyone knew t
 o end.But Su east the ascent was very happy at that time, lookinging a
 t all of eyefuls were beautiful female singers, not too wanted to http
 ://www.michaelkorsoutletonlinecn.com/ walk.He is\n\nPour en savoir plu
 s, rendez-vous sur http://www.breizhbook.com/events/michael-kors-outle
 ts-to-sit-the-staff-member
DTSTART;TZID=Europe/Paris:20121204T180000
DTEND;TZID=Europe/Paris:20121204T190000
CATEGORIES:"http://www.korsfactoryoutlet.org/"
LOCATION:http://www.korsfactoryoutlet.org/
WEBSITE:http://www.korsfactoryoutlet.org/
URL:http://www.korsfactoryoutlet.org/
CONTACT:
ORGANIZER;CN="lxl1234 lxl, I":http://www.breizhbook.com/profile/lxl123
 4lxlI
ATTACH;FMTTYPE="image/jpeg":
ATTENDEE;ROLE=REQ-PARTICIPANT;PARTSTAT=ACCEPTED;RSVP=TRUE;CN="lxl1234 
 lxl, I":http://www.breizhbook.com/profile/lxl1234lxlI
END:VEVENT
END:VCALENDAR
