BEGIN:VCALENDAR
PRODID:NingEventWidget-v1
VERSION:2.0
METHOD:PUBLISH
BEGIN:VTIMEZONE
TZID:Europe/Paris
X-LIC-LOCATION:Europe/Paris
BEGIN:DAYLIGHT
TZOFFSETFROM:+0100
TZOFFSETTO:+0200
TZNAME:CEST
DTSTART:19700329T020000
RRULE:FREQ=YEARLY;BYMONTH=3;BYDAY=-1SU
END:DAYLIGHT
BEGIN:STANDARD
TZOFFSETFROM:+0200
TZOFFSETTO:+0100
TZNAME:CET
DTSTART:19701025T030000
RRULE:FREQ=YEARLY;BYMONTH=10;BYDAY=-1SU
END:STANDARD
END:VTIMEZONE
BEGIN:VEVENT
UID:6339722:Event:144310
DTSTAMP:20260423T182040Z
SUMMARY:Manifestadeg e Montroulez d'ar 15 a viz kerzu....deuit niverus
 !
DESCRIPTION:\n\nPour en savoir plus, rendez-vous sur http://www.breizh
 book.com/events/manifestadeg-e-montroulez-d-ar-15-a-viz-kerzu-deuit-ni
 verus
DTSTART;TZID=Europe/Paris:20121215T140000
DTEND;TZID=Europe/Paris:20121215T150000
CATEGORIES:mannifestation
LOCATION:place de la mairie
WEBSITE:http://44breizh.com/
URL:http://44breizh.com/
CONTACT:
ORGANIZER;CN=maibzh:http://www.breizhbook.com/profile/maiwennmerien
ATTACH;FMTTYPE="image/jpeg":
ATTENDEE;ROLE=REQ-PARTICIPANT;PARTSTAT=ACCEPTED;RSVP=TRUE;CN=maibzh:ht
 tp://www.breizhbook.com/profile/maiwennmerien
END:VEVENT
END:VCALENDAR
