BEGIN:VCALENDAR
PRODID:NingEventWidget-v1
VERSION:2.0
METHOD:PUBLISH
BEGIN:VTIMEZONE
TZID:Europe/Paris
X-LIC-LOCATION:Europe/Paris
BEGIN:DAYLIGHT
TZOFFSETFROM:+0100
TZOFFSETTO:+0200
TZNAME:CEST
DTSTART:19700329T020000
RRULE:FREQ=YEARLY;BYMONTH=3;BYDAY=-1SU
END:DAYLIGHT
BEGIN:STANDARD
TZOFFSETFROM:+0200
TZOFFSETTO:+0100
TZNAME:CET
DTSTART:19701025T030000
RRULE:FREQ=YEARLY;BYMONTH=10;BYDAY=-1SU
END:STANDARD
END:VTIMEZONE
BEGIN:VEVENT
UID:6339722:Event:215530
DTSTAMP:20260423T175208Z
SUMMARY:Méditation OM
DESCRIPTION: La vibration cosmique universelle du OM aligne toutes le
 s vibrations qui ne sont pas en harmonie en nous. En chantant le OM, l
 e son le plus sacré de la langue sanscrite dans un groupe de personne
 s, organisé de façon spécifique, le pouvoir de guérison est renfor
 cé et amplifié. En entrant dans cette vibration, nous facilitons la 
 libération des émotions, des pensées et des énergies négatives, d
 u stress, de divers maux,  ce qui conduit à la guérison.\n \nLe OM
  MEDITATION  a un effet combiné non seulement de rééquilibrage et 
 de soutien dans les processus de guérison pour toutes les personnes a
 u sein du groupe, mais également pour tout ce qui se trouve dans la r
 égion environnante, ce qui inclut les personnes, les animaux, les bâ
 timents et la nature.\n \nLe Om Healing est un aspect de l’ATMA KRI
 YA,\nUne bénédiction spéciale de Mahavatar Babaji reçu par Swami V
 ishwananda est présente partout où des groupes certifiés de OM Heal
 ing sont constitués en conformité avec sa guidance et ses enseigneme
 nts. Méditation de hautes fréquences ,  multidimensionnelles.\nLa m
 éditation OM (Babajï) s’adresse également aux enfants et ado, (du
 rée plus courte pour enfant)\n\nPour en savoir plus, rendez-vous sur 
 http://www.breizhbook.com/events/m-ditation-om
DTSTART;TZID=Europe/Paris:20131130T200000
DTEND;TZID=Europe/Paris:20131130T220000
CATEGORIES:mensuel
LOCATION:salle polyvalente du collège du Landry
WEBSITE:https://maps.google.fr/maps?q=100+Rue+de+Ch%C3%A2teaugiron,+35
 200+Rennes&hl=fr&ie=UTF8&sll=48.089398,-3.078456&sspn=1.963025,5.37780
 8&oq=100+rue+de+Chateaugiron+35200+Rennes&hnear=100+Rue+de+Ch%C3%A2tea
 ugiron,+35200+Rennes,+Ille-et-Vilaine,+Bretagne&t=m&z=16
URL:https://maps.google.fr/maps?q=100+Rue+de+Ch%C3%A2teaugiron,+35200+
 Rennes&hl=fr&ie=UTF8&sll=48.089398,-3.078456&sspn=1.963025,5.377808&oq
 =100+rue+de+Chateaugiron+35200+Rennes&hnear=100+Rue+de+Ch%C3%A2teaugir
 on,+35200+Rennes,+Ille-et-Vilaine,+Bretagne&t=m&z=16
CONTACT:06 52 80 52 38
ORGANIZER:Bernadette Vadepied
ATTACH;FMTTYPE="image/jpeg":http://storage.ning.com/topology/rest/1.0/
 file/get/3198363037?profile=original
ATTENDEE;ROLE=REQ-PARTICIPANT;PARTSTAT=ACCEPTED;RSVP=TRUE;CN="Maryline
  Merel":http://www.breizhbook.com/profile/sentiersdubienetre
END:VEVENT
END:VCALENDAR
