BEGIN:VCALENDAR
PRODID:NingEventWidget-v1
VERSION:2.0
METHOD:PUBLISH
BEGIN:VTIMEZONE
TZID:Europe/Paris
X-LIC-LOCATION:Europe/Paris
BEGIN:DAYLIGHT
TZOFFSETFROM:+0100
TZOFFSETTO:+0200
TZNAME:CEST
DTSTART:19700329T020000
RRULE:FREQ=YEARLY;BYMONTH=3;BYDAY=-1SU
END:DAYLIGHT
BEGIN:STANDARD
TZOFFSETFROM:+0200
TZOFFSETTO:+0100
TZNAME:CET
DTSTART:19701025T030000
RRULE:FREQ=YEARLY;BYMONTH=10;BYDAY=-1SU
END:STANDARD
END:VTIMEZONE
BEGIN:VEVENT
UID:6339722:Event:125221
DTSTAMP:20260423T161040Z
SUMMARY:LES TONNERRES DE BREST 2012
DESCRIPTION:EMBARQUEZ A BORD DE LA SAINTE JEANNESamedi 7 juillet, dép
 art d’Erquy le matin en direction du port du Légué pour les 20ans 
 du Grand Léjon.Dimanche 8 juillet départ du légué, route sur Bres
 t avec escales\nArrivée à Brest jeudi 12 juillet après midi. Vendre
 di 20 juillet, départ de Douarnenez retour sur Erquy avec escales,...
  arrivée Erquy le mardi 24 juillet.  Prestations Voyage aller Brest d
 u 7 au 12juillet inclus. Tarif de 100€ par jour et par passager comp
 renant le voyage et les repas. Voyage retour du 20 juillet au 24 juill
 et mêmes conditions de tarif.\n\nPour en savoir plus, rendez-vous sur
  http://www.breizhbook.com/events/les-tonnerres-de-brest-2012
DTSTART;TZID=Europe/Paris:20120713T000000
DTEND;TZID=Europe/Paris:20120724T235900
CATEGORIES:fête, maritime, internationale
LOCATION:Port
WEBSITE:http://www.saintejeanne.com/
URL:http://www.saintejeanne.com/
CONTACT:
ORGANIZER;CN="Stéphane le Roux":http://www.breizhbook.com/profile/Ste
 phaneleRoux
ATTACH;FMTTYPE="image/jpeg":http://storage.ning.com/topology/rest/1.0/
 file/get/3198319994?profile=original
END:VEVENT
END:VCALENDAR
