BEGIN:VCALENDAR
PRODID:NingEventWidget-v1
VERSION:2.0
METHOD:PUBLISH
BEGIN:VTIMEZONE
TZID:Europe/Paris
X-LIC-LOCATION:Europe/Paris
BEGIN:DAYLIGHT
TZOFFSETFROM:+0100
TZOFFSETTO:+0200
TZNAME:CEST
DTSTART:19700329T020000
RRULE:FREQ=YEARLY;BYMONTH=3;BYDAY=-1SU
END:DAYLIGHT
BEGIN:STANDARD
TZOFFSETFROM:+0200
TZOFFSETTO:+0100
TZNAME:CET
DTSTART:19701025T030000
RRULE:FREQ=YEARLY;BYMONTH=10;BYDAY=-1SU
END:STANDARD
END:VTIMEZONE
BEGIN:VEVENT
UID:6339722:Event:176614
DTSTAMP:20260423T164411Z
SUMMARY:Les classes bilingues franÃ§ais-breton de Bruz fÃªtent leurs 1
 0 ans
DESCRIPTION:DÃ©couvrez le monde avec les Ours du Scorff, puis, rejoign
 ez le dÃ©filÃ© avec le groupe de Batucada de Toucouleurs et le Bagad R
 oazhon.\nDiv Yezh Bruz, association de parents d'Ã©lÃ¨ves, fÃªte les 1
 0 ans des classes bilingues. Voici le programme :   - Ã  16h au Grand 
 Logis Ã  Bruz :\nles Ours du Scorff chantent et dansent Ã  la dÃ©couve
 rte du Monde Il Ã©tait une fois, en Centre-Bretagne, de gentils ours q
 ui composaient de jolies chansons pour les petits enfants. Ils souriai
 ent tout le temps en prenant soin de cacher leurs grandes dents ! Ils 
 rencontrent le loup Jean Lagadou, le PrÃ©sident des attrape-mouches, m
 ademoiselle Lulu et le vieux perroquetâ€¦autant de rencontres en chans
 ons qui les mÃ¨nent sur les sentiers du Â« plus mieux Â» oiseau qui co
 nnaÃ®t les trÃ©sors cachÃ©s de la musique. Un spectacle musical mÃªlan
 t les traditions bretonne, et irlandaise ! Histoire dâ€™un voyage dâ€™
 auteurs musiciens chanteurs devenus Ours pour le plaisir du jeune publ
 ic mais aussi Ours pour tout public\nVente dÃ¨s Ã  prÃ©sent Ã  lâ€™Off
 ice de Tourisme de Bruz â€“ 11 place du Docteur Joly 10â‚¬/adulte, 5â‚
 ¬/enfant 02 99 05 56 56 â€“ office.de.tourisme.bruz@wanadoo.fr  - Ã  1
 7h30 DÃ©filÃ© en musique du Grand Logis jusquâ€™au Vau Gaillard\nRejoi
 gnez le dÃ©filÃ© avec le groupe de Batucada des enfants de Bruz, Batuc
 ada Toucouleurs et le Bagad Roazhon  Div Yezh Bruz : Association de pa
 rents dâ€™Ã©lÃ¨ves pour un enseignement bilingue breton-franÃ§ais Ã  l
 â€™Ã©cole publique En savoir plus sur la filiÃ¨re bilingue Ã  Bruz : h
 ttp://divyezh.bruz.free.fr\n\n\nPour en savoir plus, rendez-vous sur h
 ttp://www.breizhbook.com/events/les-classes-bilingues-fran-ais-breton-
 de-bruz-f-tent-leurs-10-ans
DTSTART;TZID=Europe/Paris:20130601T160000
DTEND;TZID=Europe/Paris:20130601T183000
CATEGORIES:fÃªte, "d'anniversaire", en, musique
LOCATION:Le Grand Logis
WEBSITE:http://divyezh.bruz.free.fr
URL:http://divyezh.bruz.free.fr
CONTACT:
ORGANIZER;CN="Div Yezh Bruz":http://www.breizhbook.com/profile/DivYezh
 Bruz
ATTACH;FMTTYPE="image/jpeg":http://storage.ning.com/topology/rest/1.0/
 file/get/3198355568?profile=original
ATTENDEE;ROLE=REQ-PARTICIPANT;PARTSTAT=ACCEPTED;RSVP=TRUE;CN="Div Yezh
  Bruz":http://www.breizhbook.com/profile/DivYezhBruz
END:VEVENT
END:VCALENDAR
