BEGIN:VCALENDAR
PRODID:NingEventWidget-v1
VERSION:2.0
METHOD:PUBLISH
BEGIN:VTIMEZONE
TZID:Europe/Paris
X-LIC-LOCATION:Europe/Paris
BEGIN:DAYLIGHT
TZOFFSETFROM:+0100
TZOFFSETTO:+0200
TZNAME:CEST
DTSTART:19700329T020000
RRULE:FREQ=YEARLY;BYMONTH=3;BYDAY=-1SU
END:DAYLIGHT
BEGIN:STANDARD
TZOFFSETFROM:+0200
TZOFFSETTO:+0100
TZNAME:CET
DTSTART:19701025T030000
RRULE:FREQ=YEARLY;BYMONTH=10;BYDAY=-1SU
END:STANDARD
END:VTIMEZONE
BEGIN:VEVENT
UID:6339722:Event:130391
DTSTAMP:20260423T144457Z
SUMMARY:Le mois de la découverte sur RCL
DESCRIPTION:Info RCL : Du 01/09/12 au 30/09/12, Venez découvrir L'Eco
 sse sur RCL, avec chaque jour une chronique découverte.\n\nPour en sa
 voir plus, rendez-vous sur http://www.breizhbook.com/events/le-mois-de
 -la-d-couverte-sur-rcl
DTSTART;TZID=Europe/Paris:20120901T120000
DTEND;TZID=Europe/Paris:20120930T120000
CATEGORIES:découverte
LOCATION:RCL
WEBSITE:http://www.radiocelticlands.com
URL:http://www.radiocelticlands.com
CONTACT:
ORGANIZER;CN="Radio Celtic Lands":http://www.breizhbook.com/profile/Oc
 eaneRadio
ATTACH;FMTTYPE="image/jpeg":http://storage.ning.com/topology/rest/1.0/
 file/get/3198322809?profile=original
ATTENDEE;ROLE=REQ-PARTICIPANT;PARTSTAT=ACCEPTED;RSVP=TRUE;CN="Radio Ce
 ltic Lands":http://www.breizhbook.com/profile/OceaneRadio
END:VEVENT
END:VCALENDAR
