BEGIN:VCALENDAR
PRODID:NingEventWidget-v1
VERSION:2.0
METHOD:PUBLISH
BEGIN:VTIMEZONE
TZID:Europe/Paris
X-LIC-LOCATION:Europe/Paris
BEGIN:DAYLIGHT
TZOFFSETFROM:+0100
TZOFFSETTO:+0200
TZNAME:CEST
DTSTART:19700329T020000
RRULE:FREQ=YEARLY;BYMONTH=3;BYDAY=-1SU
END:DAYLIGHT
BEGIN:STANDARD
TZOFFSETFROM:+0200
TZOFFSETTO:+0100
TZNAME:CET
DTSTART:19701025T030000
RRULE:FREQ=YEARLY;BYMONTH=10;BYDAY=-1SU
END:STANDARD
END:VTIMEZONE
BEGIN:VEVENT
UID:6339722:Event:145332
DTSTAMP:20260423T164041Z
SUMMARY:Le conte breton retrouve ses lettres de noblesse
DESCRIPTION:Un article bien documenté, avec interview vidéo en relat
 ion avec mes \"Contes et légendes d'Ille-et-Vilaine\", à découvrir 
 sur le site de terristoires, par ici : http://www.terristoires.info/cu
 lture/le-conte-breton-retrouve-ses-lettres-de-noblesse-1178.html\n\nPo
 ur en savoir plus, rendez-vous sur http://www.breizhbook.com/events/le
 -conte-breton-retrouve-ses-lettres-de-noblesse
DTSTART;TZID=Europe/Paris:20130105T180000
DTEND;TZID=Europe/Paris:20130331T190000
CATEGORIES:ouvrage, de, référence
LOCATION:.
WEBSITE:http://www.contes-et-merveilles.com/news.php
URL:http://www.contes-et-merveilles.com/news.php
CONTACT:
ORGANIZER;CN=MATHIAS:http://www.breizhbook.com/profile/MATHIAS
ATTACH;FMTTYPE="image/jpeg":http://storage.ning.com/topology/rest/1.0/
 file/get/3198325418?profile=original
ATTENDEE;ROLE=REQ-PARTICIPANT;PARTSTAT=ACCEPTED;RSVP=TRUE;CN=MATHIAS:h
 ttp://www.breizhbook.com/profile/MATHIAS
END:VEVENT
END:VCALENDAR
