BEGIN:VCALENDAR
PRODID:NingEventWidget-v1
VERSION:2.0
METHOD:PUBLISH
BEGIN:VTIMEZONE
TZID:Europe/Paris
X-LIC-LOCATION:Europe/Paris
BEGIN:DAYLIGHT
TZOFFSETFROM:+0100
TZOFFSETTO:+0200
TZNAME:CEST
DTSTART:19700329T020000
RRULE:FREQ=YEARLY;BYMONTH=3;BYDAY=-1SU
END:DAYLIGHT
BEGIN:STANDARD
TZOFFSETFROM:+0200
TZOFFSETTO:+0100
TZNAME:CET
DTSTART:19701025T030000
RRULE:FREQ=YEARLY;BYMONTH=10;BYDAY=-1SU
END:STANDARD
END:VTIMEZONE
BEGIN:VEVENT
UID:6339722:Event:197192
DTSTAMP:20260423T175301Z
SUMMARY:« Le Cannibale masqué »
DESCRIPTION:Vous avez une dent contre vos voisins ? Vous trouvez que l
 es petits enfants sont à croquer ? Vous allez vous régaler ! Deux in
 tervenants inquiétants brossent un panorama historique et littéraire
  de l'art d'aimer son prochain... avec de la sauce !\nles 18 et 19 jui
 llet à 21h / entrée : 5 €\nspectacle pour 12 ans et plus\nRenseign
 ements détaillés : www.fieffegoupil.fr/la-grange-aux-goupils\n\nPour
  en savoir plus, rendez-vous sur http://www.breizhbook.com/events/le-c
 annibale-masqu
DTSTART;TZID=Europe/Paris:20130718T210000
DTEND;TZID=Europe/Paris:20130718T230000
CATEGORIES:conférence, décalée, "/", spectacle
LOCATION:La Grange aux Goupils
WEBSITE:http://goo.gl/maps/ozhpN
URL:http://goo.gl/maps/ozhpN
CONTACT:0781093900
ORGANIZER:La Grange aux Goupils
ATTACH;FMTTYPE="image/jpeg":http://storage.ning.com/topology/rest/1.0/
 file/get/3198358086?profile=original
ATTENDEE;ROLE=REQ-PARTICIPANT;PARTSTAT=ACCEPTED;RSVP=TRUE;CN="Fieffé 
 Goupil":http://www.breizhbook.com/profile/FieffeGoupil
END:VEVENT
END:VCALENDAR
