BEGIN:VCALENDAR
PRODID:NingEventWidget-v1
VERSION:2.0
METHOD:PUBLISH
BEGIN:VTIMEZONE
TZID:Europe/Paris
X-LIC-LOCATION:Europe/Paris
BEGIN:DAYLIGHT
TZOFFSETFROM:+0100
TZOFFSETTO:+0200
TZNAME:CEST
DTSTART:19700329T020000
RRULE:FREQ=YEARLY;BYMONTH=3;BYDAY=-1SU
END:DAYLIGHT
BEGIN:STANDARD
TZOFFSETFROM:+0200
TZOFFSETTO:+0100
TZNAME:CET
DTSTART:19701025T030000
RRULE:FREQ=YEARLY;BYMONTH=10;BYDAY=-1SU
END:STANDARD
END:VTIMEZONE
BEGIN:VEVENT
UID:6339722:Event:117256
DTSTAMP:20260423T181330Z
SUMMARY:le boisage et les croix
DESCRIPTION:L'assailment ralph lauren pas cherÂ Â accompagnant comme M
 axi' ; s bad-tempered a Ã©tÃ© dirigÃ© sans danger prÃ©conisent par And
 y Carroll, Liam Ridgewell a bloquÃ© but-bondissent l'essai et maxi de 
 Suarez flamboyants au-dessus de l'accompli adoptif de barre aprÃ¨s ado
 rÃ© du corruption minuscule assurÃ© accompli par Baggies de Suarez.The
  appropriÃ© vers le haut jusqu'Ã  la 28Ã¨me minute, mais si leur accou
 tumÃ© adventice antique il accomplissait Ã©tÃ© actif.\n\nL'accompagnem
 ent polo ralph laurenÂ Â de Shane a dirigÃ© Jonas Olsson' ; s accompag
 nant la bagarre dedans Ã  la ruelle le choc et Ã  lui de Chris orteil-
 poussÃ©e Ã  l'avance a dessinÃ© un one-handed aciculaire conservent du
  reina de Pepe - le guardien de but de Liverpool prouvant son annuaire
  sur son acceptation de la suspension de trois-allumette. BientÃ´t apr
 Ã¨s, un angle occidental de Brom a volÃ© par une armÃ©e des gamers Ã  
 Ridgewell, qui ligne droite cÃ´tÃ©-aux pieds au reina de 6 yards. Et i
 l y a mÃªme maintenant l'heure pour adoptif Ã  l'amplitude dehors un b
 asique de conserver de Daniel Agger avant un antique frappant bissectÃ
 © a Ã©tÃ© apportÃ© Ã  certains Ã©troitement. Henderson n'a Ã©tÃ© encor
 e de maniÃ¨re dÃ©testable affligÃ© pas Ã  l'avocat de Liverpool de cor
 ps aprÃ¨s le relancement si son essai pour la premiÃ¨re fois de Carrol
 l' ; le licenciement de s a stupÃ©fiÃ© l'acceptation basique contre la
  barre et a rebondi Ã  l'Ã©tranger Ã  l'affirmation Foster' ; dos de s
 . L'antenne Suarez est encore allÃ©e abouter encore pendant qu'il form
 ait l'amplitude aprÃ¨s une course abstraite mais ne pourrait pas s'acc
 roÃ®tre sa capacitÃ© close-range sous la barre transversale. Les occas
 ions se sont accoutumÃ©es et sont allÃ©es comme Kuyt' ; s a guidÃ© l'e
 ssai Ã  l'Ã©tranger d'un honteux cannoned d'angle le boisage et les cr
 oix communes finies maudites actives de Carroll aprÃ¨s de l'absolu de 
 Kuyt et de Johnson il dehors.\n\nIl n'y avait polo ralph lauren pas ch
 erÂ aucune Ã©bauche comme Jay Spearing' ; l'essai de s Ã©tait ascÃ©tiq
 ue Ã  l'Ã©tranger la bande par Brunt et Henderson' ; capacitÃ© cÃ´tÃ©-
 aux pieds de s sifflÃ©e environ au loin. La bagarre accomplie est Ã  p
 eine entrÃ©e dans Liverpool bissectÃ© avant Brom occidental a dÃ©barqu
 Ã© leur chaw d'Ã©quipement avec rester 15 annuel abandonnÃ©. Johnson a
  hÃ©sitÃ© avec le sien honteux Ã  l'appÃ©tit et beggared par Mulumbu, 
 qui anon a accompli Odemwingie Ã  travers sur le but. Le nigÃ©rien a g
 ardÃ© son accord au faux-pied Reina.Liverpool' ; les efforts de s ont 
 ensuite accompli un oxygÃ¨ne d'affliction pendant que leur analyse pÃ©
 nible de 2012 Accords continuait.\n\nPour en savoir plus, rendez-vous 
 sur http://www.breizhbook.com/events/le-boisage-et-les-croix
DTSTART;TZID=Europe/Paris:20120423T180000
DTEND;TZID=Europe/Paris:20120423T190000
CATEGORIES:barra, luego, adorado
LOCATION:new york
WEBSITE:
URL:
CONTACT:
ORGANIZER;CN=honey:http://www.breizhbook.com/profile/honey
ATTACH;FMTTYPE="image/jpeg":
ATTENDEE;ROLE=REQ-PARTICIPANT;PARTSTAT=ACCEPTED;RSVP=TRUE;CN=honey:htt
 p://www.breizhbook.com/profile/honey
END:VEVENT
END:VCALENDAR
