BEGIN:VCALENDAR
PRODID:NingEventWidget-v1
VERSION:2.0
METHOD:PUBLISH
BEGIN:VTIMEZONE
TZID:Europe/Paris
X-LIC-LOCATION:Europe/Paris
BEGIN:DAYLIGHT
TZOFFSETFROM:+0100
TZOFFSETTO:+0200
TZNAME:CEST
DTSTART:19700329T020000
RRULE:FREQ=YEARLY;BYMONTH=3;BYDAY=-1SU
END:DAYLIGHT
BEGIN:STANDARD
TZOFFSETFROM:+0200
TZOFFSETTO:+0100
TZNAME:CET
DTSTART:19701025T030000
RRULE:FREQ=YEARLY;BYMONTH=10;BYDAY=-1SU
END:STANDARD
END:VTIMEZONE
BEGIN:VEVENT
UID:6339722:Event:152019
DTSTAMP:20260423T175210Z
SUMMARY:Le 8 Mars
DESCRIPTION:Pour toutes les femmes qui ont envie de découvrir, de tes
 ter, d’aborder un point précis sur ordinateur ou tablette, une heur
 e offerte. Formation individualisée en fonction des besoins, des capa
 cités et des centres d’intérêt de chacun.Inscription au : 02 90 3
 6 01 41, à Lanvollon.\n\nPour en savoir plus, rendez-vous sur http://
 www.breizhbook.com/events/le-8-mars
DTSTART;TZID=Europe/Paris:20130308T000000
DTEND;TZID=Europe/Paris:20130309T235900
CATEGORIES:atelier, "utilisation de l'ordinateur"
LOCATION:Face à la mairie
WEBSITE:http://asfbreizh.wordpress.com/
URL:http://asfbreizh.wordpress.com/
CONTACT:02 90 36 01 41
ORGANIZER;CN="ASF BREIZH":http://www.breizhbook.com/profile/ASFBREIZH5
 72
ATTACH;FMTTYPE="image/jpeg":http://storage.ning.com/topology/rest/1.0/
 file/get/3198333812?profile=original
ATTENDEE;ROLE=REQ-PARTICIPANT;PARTSTAT=ACCEPTED;RSVP=TRUE;CN="ASF BREI
 ZH":http://www.breizhbook.com/profile/ASFBREIZH572
END:VEVENT
END:VCALENDAR
